BEGIN:VCALENDAR
VERSION:2.0
PRODID:gruene-saar.de
METHOD:PUBLISH
BEGIN:VTIMEZONE
TZID:Europe/Berlin
X-LIC-LOCATION:Europe/Berlin
BEGIN:DAYLIGHT
TZOFFSETFROM:+0100
TZOFFSETTO:+0200
TZNAME:CEST
DTSTART:19700329T020000
RRULE:FREQ=YEARLY;INTERVAL=1;BYDAY=-1SU;BYMONTH=3
END:DAYLIGHT
BEGIN:STANDARD
TZOFFSETFROM:+0200
TZOFFSETTO:+0100
TZNAME:CET
DTSTART:19701025T030000
RRULE:FREQ=YEARLY;INTERVAL=1;BYDAY=-1SU;BYMONTH=10
END:STANDARD
END:VTIMEZONE
BEGIN:VEVENT
UID:b7cb493be7094cdbcefa50f6e0a17c32@gruene-saar.de
URL;VALUE=URI:https://gruene-saar.de/termine/11863/
LOCATION:Innovationcenter der UdS
SUMMARY:Podiumsdiskussion AStA (UdS) „Hochschulen in Deutschland: Was b
 eschäftigt Studierende?“
DESCRIPTION;ALTREP="data:text/html,%0A%3Cp%3E%3Cstrong%3EAm%2020.02.2025%
 20um%2019%3A00%20Uhr%20im%3C%2Fstrong%3E%3C%2Fp%3E%0A%0A%0A%0A%3Cp%3E%26%
 23x1f4cd%3B%20Innovationcenter%20der%20Universit%C3%A4t%20des%20Saarlande
 s%20findet%20die%3C%2Fp%3E%0A%3Cp%3E%26%23x1f4e2%3B%20Podiumsdiskussion%2
 0mit%20den%3C%2Fp%3E%0A%3Cp%3E%26%23x1f465%3B%20Bundestagkandidat%3Ainnen
 %20der%20Fraktionen%20CDU%2C%20SPD%2C%20Gr%C3%BCne%2C%20Linke%20und%20FDP
 %20statt%21%3C%2Fp%3E%0A%3Cp%3E%3Cstrong%3EMit%20dabei%20unsere%20Spitzen
 kandidatin%20Jeanne%20Dillschneider%21%3C%2Fstrong%3E%3C%2Fp%3E%0A%3Cp%3E
 %26%23x1f50d%3BThemen%20sind%20u.a.%20Studienfinanzierung%2C%20Chancengle
 ichheit%2C%20Digitalisierung%20und%20die%20Rolle%20der%20Universit%C3%A4t
 en%20in%20der%20Politik%21%3C%2Fp%3E%0A%0A%0A%0A%0A":Am 20.02.2025 um 19:
 00 Uhr im\n\n📍 Innovationcenter der Universität des Saarlandes findet
  die\n\n📢 Podiumsdiskussion mit den\n\n👥 Bundestagkandidat:innen de
 r Fraktionen CDU\, SPD\, Grüne\, Linke und FDP statt!\n\nMit dabei unser
 e Spitzenkandidatin Jeanne Dillschneider!\n\n🔍Themen sind u.a. Studien
 finanzierung\, Chancengleichheit\, Digitalisierung und die Rolle der Univ
 ersitäten in der Politik!
CLASS:PUBLIC
DTSTART;TZID=Europe/Berlin:20250220T190000
DTEND;TZID=Europe/Berlin:20250220T200000
DTSTAMP:20260421T100127
END:VEVENT
END:VCALENDAR