BEGIN:VCALENDAR
VERSION:2.0
PRODID:gruene-saar.de
METHOD:PUBLISH
BEGIN:VTIMEZONE
TZID:Europe/Berlin
X-LIC-LOCATION:Europe/Berlin
BEGIN:DAYLIGHT
TZOFFSETFROM:+0100
TZOFFSETTO:+0200
TZNAME:CEST
DTSTART:19700329T020000
RRULE:FREQ=YEARLY;INTERVAL=1;BYDAY=-1SU;BYMONTH=3
END:DAYLIGHT
BEGIN:STANDARD
TZOFFSETFROM:+0200
TZOFFSETTO:+0100
TZNAME:CET
DTSTART:19701025T030000
RRULE:FREQ=YEARLY;INTERVAL=1;BYDAY=-1SU;BYMONTH=10
END:STANDARD
END:VTIMEZONE
BEGIN:VEVENT
UID:9ada23bb2d323942ce8a38cc1a277034@gruene-saar.de
URL;VALUE=URI:https://gruene-saar.de/termine/beseitigung-der-riesenbaeren
 klaue-ov-schmelz/
LOCATION:
SUMMARY:Beseitigung der Riesenbärenklaue – OV Schmelz
DESCRIPTION;ALTREP="data:text/html,%0A%3Cp%3ETermin%3A%20Donnerstag%2C%20
 02.%20April%202026%3Cbr%3EUhrzeit%3A%2015%3A00%20Uhr%3Cbr%3EOrt%3A%20Enge
 lgrundweiher%2C%2066839%20Schmelz%3C%2Fp%3E%0A":Termin: Donnerstag\, 02. 
 April 2026Uhrzeit: 15:00 UhrOrt: Engelgrundweiher\, 66839 Schmelz
CLASS:PUBLIC
DTSTART;TZID=Europe/Berlin:20260402T150000
DTEND;TZID=Europe/Berlin:20260402T160000
DTSTAMP:20260421T115135
END:VEVENT
END:VCALENDAR