BEGIN:VCALENDAR
VERSION:2.0
PRODID:gruene-saar.de
METHOD:PUBLISH
BEGIN:VTIMEZONE
TZID:Europe/Berlin
X-LIC-LOCATION:Europe/Berlin
BEGIN:DAYLIGHT
TZOFFSETFROM:+0100
TZOFFSETTO:+0200
TZNAME:CEST
DTSTART:19700329T020000
RRULE:FREQ=YEARLY;INTERVAL=1;BYDAY=-1SU;BYMONTH=3
END:DAYLIGHT
BEGIN:STANDARD
TZOFFSETFROM:+0200
TZOFFSETTO:+0100
TZNAME:CET
DTSTART:19701025T030000
RRULE:FREQ=YEARLY;INTERVAL=1;BYDAY=-1SU;BYMONTH=10
END:STANDARD
END:VTIMEZONE
BEGIN:VEVENT
UID:29817e76dd126c7771b82b52c3cbd31d@gruene-saar.de
URL;VALUE=URI:https://gruene-saar.de/termine/boule-treff-in-dudweiler/
LOCATION:
SUMMARY:Boule-Treff in Dudweiler, OV Dudweiler Scheidt
DESCRIPTION;ALTREP="data:text/html,%0A%3Cp%3ETermin%3A%20Sonntag%2C%2007.
 %20September%202025%3Cbr%3EUhrzeit%3A%2013%3A00%20Uhr%3Cbr%3EOrt%3A%20Pfa
 rrhaus%20St.%20Marien%2C%20Kleine%20Kirchenstra%C3%9Fe%201%2C%2066125%20S
 aarbr%C3%BCcken%2FDudweiler%3C%2Fp%3E%0A%0A%0A%0A%3Cdiv%20class%3D%22wp-b
 lock-buttons%20is-layout-flex%20wp-block-buttons-is-layout-flex%22%3E%0A%
 3Cdiv%20class%3D%22wp-block-button%22%3E%3Ca%20class%3D%22wp-block-button
 __link%20wp-element-button%22%20href%3D%22Pfarrhaus%20St.%20Marien%2C%20K
 leine%20Kirchenstra%C3%9Fe%201%2C%2066125%20Saarbr%C3%BCcken%2FDudweiler%
 22%3E%3Cstrong%3EWEITERE%20INFORMATIONEN%3C%2Fstrong%3E%3C%2Fa%3E%3C%2Fdi
 v%3E%0A%3C%2Fdiv%3E%0A%0A%0A%0A%3Cp%3E%3C%2Fp%3E%0A":Termin: Sonntag\, 07
 . September 2025Uhrzeit: 13:00 UhrOrt: Pfarrhaus St. Marien\, Kleine Kirc
 henstraße 1\, 66125 Saarbrücken/Dudweiler\n\nWEITERE INFORMATIONEN
CLASS:PUBLIC
DTSTART;TZID=Europe/Berlin:20250907T130000
DTEND;TZID=Europe/Berlin:20250907T140000
DTSTAMP:20260421T100553
END:VEVENT
END:VCALENDAR