BEGIN:VCALENDAR
VERSION:2.0
PRODID:gruene-saar.de
METHOD:PUBLISH
BEGIN:VTIMEZONE
TZID:Europe/Berlin
X-LIC-LOCATION:Europe/Berlin
BEGIN:DAYLIGHT
TZOFFSETFROM:+0100
TZOFFSETTO:+0200
TZNAME:CEST
DTSTART:19700329T020000
RRULE:FREQ=YEARLY;INTERVAL=1;BYDAY=-1SU;BYMONTH=3
END:DAYLIGHT
BEGIN:STANDARD
TZOFFSETFROM:+0200
TZOFFSETTO:+0100
TZNAME:CET
DTSTART:19701025T030000
RRULE:FREQ=YEARLY;INTERVAL=1;BYDAY=-1SU;BYMONTH=10
END:STANDARD
END:VTIMEZONE
BEGIN:VEVENT
UID:189b5688a18b9478b2d538545f135179@gruene-saar.de
URL;VALUE=URI:https://gruene-saar.de/termine/bunt-statt-braun-2/
LOCATION:Congresshalle, Saarbrücken
SUMMARY:BUNT STATT BRAUN
DESCRIPTION;ALTREP="data:text/html,%0A%3Cp%3E%3Cstrong%3EDas%20Saarland%2
 0f%C3%BCr%20Vielfalt%20und%20Demokratie%3C%2Fstrong%3E%3C%2Fp%3E%0A%3Cp%3
 E%3Cstrong%3EDatum%3C%2Fstrong%3E%3A%2022.02.2025%3C%2Fp%3E%0A%3Cp%3E%3Cs
 trong%3EZeit%3C%2Fstrong%3E%3A%2014.00%20Uhr%3C%2Fp%3E%0A%3Cp%3E%3Cstrong
 %3EOrt%3C%2Fstrong%3E%3A%20Congresshalle%20Saarbr%C3%BCcken%3C%2Fp%3E%0A"
 :Das Saarland für Vielfalt und Demokratie\n\nDatum: 22.02.2025\n\nZeit: 
 14.00 Uhr\n\nOrt: Congresshalle Saarbrücken
CLASS:PUBLIC
DTSTART;TZID=Europe/Berlin:20250222T134000
DTEND;TZID=Europe/Berlin:20250222T144000
DTSTAMP:20260425T163424
END:VEVENT
END:VCALENDAR