BEGIN:VCALENDAR
VERSION:2.0
PRODID:gruene-saar.de
METHOD:PUBLISH
BEGIN:VTIMEZONE
TZID:Europe/Berlin
X-LIC-LOCATION:Europe/Berlin
BEGIN:DAYLIGHT
TZOFFSETFROM:+0100
TZOFFSETTO:+0200
TZNAME:CEST
DTSTART:19700329T020000
RRULE:FREQ=YEARLY;INTERVAL=1;BYDAY=-1SU;BYMONTH=3
END:DAYLIGHT
BEGIN:STANDARD
TZOFFSETFROM:+0200
TZOFFSETTO:+0100
TZNAME:CET
DTSTART:19701025T030000
RRULE:FREQ=YEARLY;INTERVAL=1;BYDAY=-1SU;BYMONTH=10
END:STANDARD
END:VTIMEZONE
BEGIN:VEVENT
UID:43ef712d5d5a6ccf84070cf9b4f9da16@gruene-saar.de
URL;VALUE=URI:https://gruene-saar.de/termine/cluster-bildung-ein-leben-la
 ng/
LOCATION:
SUMMARY:Cluster-Arbeitstagung „Bildung ein Leben lang“
DESCRIPTION;ALTREP="data:text/html,%0A%3Cp%3EF%C3%BCr%20das%20Landtagswah
 lprogramm%20zum%2018.%20Landtag%20im%20Fr%C3%BChjahr%202027%20wollen%20wi
 r%20euch%20alle%20mit%20einbeziehen.%20Mit%20euch%20wollen%20wir%20inhalt
 liche%20Gemeinsamkeiten%20identifizieren%2C%20aber%20auch%20Widerspr%C3%B
 Cchliches%20diskutieren%20und%20daraus%20unsere%20Gr%C3%BCnen%20Forderung
 en%20f%C3%BCr%20ein%20Wahlprogramm%20entwickeln.%20Jedes%20Mitglied%20ist
 %20eingeladen%2C%20seine%20Ideen%20dazu%20mit%20einzubringen.%20Aus%20die
 sem%20Grund%20laden%20wir%20zu%20gemeinsamen%20Cluster-Arbeitstagungen%20
 ein.%3C%2Fp%3E%0A%0A%0A%0A%3Cp%3EDie%20Cluster-Arbeitstagung%20zum%20Them
 a%20%E2%80%9EBildung%20ein%20Leben%20lang%E2%80%9C%20findet%20am%20%3Cstr
 ong%3EFreitag%2C%2030.%20Januar%202026%3C%2Fstrong%3E%2C%20von%20%3Cstron
 g%3E17.00%20bis%2021.00%20Uhr%3C%2Fstrong%3E%20in%20unserer%20%3Cstrong%3
 ELandesgesch%C3%A4ftsstelle%3C%2Fstrong%3E%2C%20Bahnhofstra%C3%9Fe%2036%2
 C%2066111%20Saarbr%C3%BCcken%20%28Eingang%20Dudweilerstra%C3%9Fe%2C%20neb
 en%20dem%20Restaurant%20Osaka%29%20statt.%3C%2Fp%3E%0A%0A%0A%0A%3Cp%3EAus
 %20organisatorischen%20Gr%C3%BCnden%20bitten%20wir%20um%20%3Cstrong%3EAnm
 eldung%3C%2Fstrong%3E%20unter%3A%3C%2Fp%3E%0A%0A%0A%0A%3Cdiv%20class%3D%2
 2forminator-guttenberg%22%3E%3C%2Fdiv%3E%0A%0A%0A%0A%3Cp%3EW%C3%A4hrend%2
 0dieser%20Veranstaltung%20wollen%20wir%20mit%20euch%20Leitbilder%20und%20
 verbindende%20Narrative%20entwickeln.%20Dabei%20nehmen%20wir%20besonders%
 20in%20den%20Blick%2C%20wie%20Bildung%20%E2%80%93%20von%20der%20fr%C3%BCh
 kindlichen%20F%C3%B6rderung%20bis%20zur%20Erwachsenenbildung%20%E2%80%93%
 20zur%20St%C3%A4rkung%20von%20Demokratie%2C%20sozialem%20Zusammenhalt%20u
 nd%20Chancengerechtigkeit%20beitragen%20kann.%3C%2Fp%3E%0A%0A%0A%0A%3Cp%3
 E%3Cstrong%3EWer%20f%C3%BChrt%20die%20Clustertagung%20durch%3F%3C%2Fstron
 g%3E%3C%2Fp%3E%0A%0A%0A%0A%3Cp%3EDie%20Tagung%20wird%20durchgef%C3%BChrt%
 20von%20Vertreter%3Ainnen%20der%20LAG%20Bildung%20mit%20Unterst%C3%BCtzun
 g%20folgender%20Landesarbeitsgemeinschaften%3A%3C%2Fp%3E%0A%0A%0A%0A%3Cp%
 3E%E2%80%A2%20LAG%20WHT%20%28Wissenschaft%2C%20Hochschule%2C%20Technologi
 epolitik%29%3C%2Fp%3E%0A%0A%0A%0A%3Cp%3E%E2%80%A2%20LAG%20DiGiMeSa%20%28D
 igitale%20Medien%20und%20Schule%20im%20Saarland%29%3C%2Fp%3E%0A%0A%0A%0A%
 3Cp%3E%E2%80%A2%20LAG%20Soziales%20und%20Gesundheit%3C%2Fp%3E%0A%0A%0A%0A
 %3Cp%3E%E2%80%A2%20LAG%20Kultur%3C%2Fp%3E%0A%0A%0A%0A%3Cp%3E%E2%80%A2%20L
 AG%20Christ%3A%20innen%3C%2Fp%3E%0A%0A%0A%0A%3Cp%3E%3Cstrong%3EVerlauf%20
 der%20Cluster-Arbeitstagung%3C%2Fstrong%3E%3C%2Fp%3E%0A%0A%0A%0A%3Cp%3E%3
 Cstrong%3EI.%20Ma%C3%9Fnahmen%20formulieren%20zu%20den%205%20Thementische
 n%3C%2Fstrong%3E%3C%2Fp%3E%0A%0A%0A%0A%3Cp%3E%E2%80%A2%2030%20Minuten%20T
 hemensammlung%20und%20Ma%C3%9Fnahmenerarbeitung%20am%20ersten%20Tisch%3C%
 2Fp%3E%0A%0A%0A%0A%3Cp%3E%E2%80%A2%2015%20Minuten%20Themensammlung%20und%
 20Ma%C3%9Fnahmenerarbeitung%20an%20jedem%20der%20weiteren%20vier%20Tische
 %3C%2Fp%3E%0A%0A%0A%0A%3Cp%3E%3Cstrong%3EII.%20Pause%3C%2Fstrong%3E%3C%2F
 p%3E%0A%0A%0A%0A%3Cp%3E%E2%80%A2%20Gemeinsamer%20Austausch%20bei%20feinem
 %20chinesischem%20vegetarischem%20Essen%3C%2Fp%3E%0A%0A%0A%0A%3Cp%3E%3Cst
 rong%3EII.%20Galeriegang%20und%20Bewertung%3C%2Fstrong%3E%3C%2Fp%3E%0A%0A
 %0A%0A%3Cp%3E%E2%80%A2%2010%20Minuten%20Galeriegang%20mit%20Bewertung%20d
 er%20einzelnen%20Themen%20der%205%20Thementische%3C%2Fp%3E%0A%0A%0A%0A%3C
 p%3E%3Cstrong%3EIII.%20Res%C3%BCmee%3C%2Fstrong%3E%3C%2Fp%3E%0A%0A%0A%0A%
 3Cp%3E%E2%80%A2%20Gemeinsame%20Zusammenfassung%20der%20Ergebnisse%20und%2
 0Ausblick%20auf%20die%20Weiterarbeit.%3C%2Fp%3E%0A%0A%0A%0A%3Cp%3E%3Cstro
 ng%3EThematische%20Schwerpunkte%3C%2Fstrong%3E%3C%2Fp%3E%0A%0A%0A%0A%3Cp%
 3EWir%20werden%20an%20f%C3%BCnf%20Themenschwerpunkten%20arbeiten%2C%20die
 %20federf%C3%BChrend%20aus%20der%20Bildungspolitik%20kommen.%20An%20jedem
 %20Thementisch%20arbeitet%20ein%20Team%2C%20das%20aus%20mindestens%20je%2
 0einem%20Mitglied%20jeder%20der%20eingeladenen%20LAGen%20besteht.%3C%2Fp%
 3E%0A%0A%0A%0A%3Cp%3E%3Cstrong%3EThementisch%201%3A%3C%2Fstrong%3E%20Unse
 r%20gr%C3%BCnes%20Bildungsverst%C3%A4ndnis%20%E2%80%93%20Werte%2C%20Demok
 ratie%20%26amp%3B%20Teilhabe%20LAG%20Gesundheit%20%26amp%3B%20Soziales%20
 und%20LAG%20WHT%20mit%20den%20Themen%3A%3C%2Fp%3E%0A%0A%0A%0A%3Cp%3E%E2%8
 0%A2%20Demokratiebildung%3C%2Fp%3E%0A%0A%0A%0A%3Cp%3E%E2%80%A2%20Bildung%
 20f%C3%BCr%20nachhaltige%20Entwicklung%20%28BNE%29%3C%2Fp%3E%0A%0A%0A%0A%
 3Cp%3E%E2%80%A2%20Kulturelle%20Bildung%3C%2Fp%3E%0A%0A%0A%0A%3Cp%3E%E2%80
 %A2%20Wertevermittlung%20%26amp%3B%20gesellschaftliche%20Teilhabe%3C%2Fp%
 3E%0A%0A%0A%0A%3Cp%3E%E2%80%A2%20Migration%20%26amp%3B%20Einwanderung%3C%
 2Fp%3E%0A%0A%0A%0A%3Cp%3E%E2%80%A2%20Schule%2C%20FGTS%20%26amp%3B%20Ehren
 amt%20als%20Orte%20des%20Zusammenhalts%3C%2Fp%3E%0A%0A%0A%0A%3Cp%3E%3Cstr
 ong%3EThementisch%202%3A%20%3C%2Fstrong%3EFr%C3%BChkindliche%20Bildung%20
 %26amp%3B%20fr%C3%BChe%20Chancen%20LAG%20Gesundheit%20%26amp%3B%20Soziale
 s%20mit%20den%20Themen%3A%3C%2Fp%3E%0A%0A%0A%0A%3Cp%3E%E2%80%A2%20Fr%C3%B
 Ch%20in%20die%20Bildung%20%28Ern%C3%A4hrung%2C%20Bewegung%20etc.%29%3C%2F
 p%3E%0A%0A%0A%0A%3Cp%3E%E2%80%A2%20Alle%20Kinder%20sollen%20in%20die%20Ki
 ta%20gehen%20k%C3%B6nnen%3C%2Fp%3E%0A%0A%0A%0A%3Cp%3E%E2%80%A2%20Mental%2
 0Health%20und%20Erziehung%20im%20fr%C3%BChen%20Kindesalter%3C%2Fp%3E%0A%0
 A%0A%0A%3Cp%3E%E2%80%A2%20Unterst%C3%BCtzung%20f%C3%BCr%20Kinder%20in%20a
 rmutsgef%C3%A4hrdeten%20Familien%3C%2Fp%3E%0A%0A%0A%0A%3Cp%3E%3Cstrong%3E
 Thementisch%203%3A%3C%2Fstrong%3E%20Professionalisierung%20%26amp%3B%20Fa
 chkr%C3%A4fteentwicklung%20LAG%20WHT%20mit%20den%20Themen%3A%3C%2Fp%3E%0A
 %0A%0A%0A%3Cp%3E%E2%80%A2%20Mehr%20Personal%20an%20Schulen%3C%2Fp%3E%0A%0
 A%0A%0A%3Cp%3E%E2%80%A2%20Professionalisierung%20in%20Schulsozialarbeit%2
 0%26amp%3B%20Elternarbeit%3C%2Fp%3E%0A%0A%0A%0A%3Cp%3E%E2%80%A2%20Qualifi
 zierung%20in%20Vorschulf%C3%B6rderung%3C%2Fp%3E%0A%0A%0A%0A%3Cp%3E%E2%80%
 A2%20Kompetenzen%20im%20Umgang%20mit%20Digitalisierung%20%28KI%2C%20Infor
 matik%29%3C%2Fp%3E%0A%0A%0A%0A%3Cp%3E%3Cstrong%3EThementisch%204%3A%3C%2F
 strong%3E%20Digitalisierung%20%26amp%3B%20Medienbildung%20LAG%20DiGiMeSa%
 20mit%20den%20Themen%3A%3C%2Fp%3E%0A%0A%0A%0A%3Cp%3E%E2%80%A2%20KI%2C%20P
 %C3%A4dagogik%20und%20Informatik%3C%2Fp%3E%0A%0A%0A%0A%3Cp%3E%E2%80%A2%20
 Digitale%20Bildung%20und%20Medienkompetenz%3C%2Fp%3E%0A%0A%0A%0A%3Cp%3E%E
 2%80%A2%20Schnittstellen%20zwischen%20Schule%2C%20Technik%20und%20Gesells
 chaft%3C%2Fp%3E%0A%0A%0A%0A%3Cp%3E%3Cstrong%3EThementisch%205%3A%3C%2Fstr
 ong%3E%20Berufliche%20Bildung%20%26amp%3B%20lebenslanges%20Lernen%20LAG%2
 0DiGiMeSa%20mit%20den%20Themen%3A%3C%2Fp%3E%0A%0A%0A%0A%3Cp%3E%E2%80%A2%2
 0%C3%9Cbergang%20Schule%E2%80%93Beruf%3C%2Fp%3E%0A%0A%0A%0A%3Cp%3E%E2%80%
 A2%20Berufliche%20Weiterbildung%20und%20Qualifizierung%3C%2Fp%3E%0A%0A%0A
 %0A%3Cp%3E%E2%80%A2%20Digitale%20Kompetenzen%20in%20der%20beruflichen%20B
 ildung%3C%2Fp%3E%0A%0A%0A%0A%3Cp%3E%E2%80%A2%20Inklusion%20%26amp%3B%20Ch
 ancengerechtigkeit%20in%20der%20beruflichen%20Ausbildung%3C%2Fp%3E%0A%0A%
 0A%0A%3Cp%3EWir%20freuen%20uns%20%C3%BCber%20rege%20Teilnahme%20und%20ins
 pirierende%2C%20ehrliche%20und%20kreative%20Diskussionen%20mit%20euch.%3C
 %2Fp%3E%0A":Für das Landtagswahlprogramm zum 18. Landtag im Frühjahr 20
 27 wollen wir euch alle mit einbeziehen. Mit euch wollen wir inhaltliche 
 Gemeinsamkeiten identifizieren\, aber auch Widersprüchliches diskutieren
  und daraus unsere Grünen Forderungen für ein Wahlprogramm entwickeln. 
 Jedes Mitglied ist eingeladen\, seine Ideen dazu mit einzubringen. Aus di
 esem Grund laden wir zu gemeinsamen Cluster-Arbeitstagungen ein.\n\nDie C
 luster-Arbeitstagung zum Thema „Bildung ein Leben lang“ findet am Fre
 itag\, 30. Januar 2026\, von 17.00 bis 21.00 Uhr in unserer Landesgeschä
 ftsstelle\, Bahnhofstraße 36\, 66111 Saarbrücken (Eingang Dudweilerstra
 ße\, neben dem Restaurant Osaka) statt.\n\nAus organisatorischen Gründe
 n bitten wir um Anmeldung unter:\n\nWährend dieser Veranstaltung wollen 
 wir mit euch Leitbilder und verbindende Narrative entwickeln. Dabei nehme
 n wir besonders in den Blick\, wie Bildung – von der frühkindlichen F
 örderung bis zur Erwachsenenbildung – zur Stärkung von Demokratie\, s
 ozialem Zusammenhalt und Chancengerechtigkeit beitragen kann.\n\nWer füh
 rt die Clustertagung durch?\n\nDie Tagung wird durchgeführt von Vertrete
 r:innen der LAG Bildung mit Unterstützung folgender Landesarbeitsgemeins
 chaften:\n\n• LAG WHT (Wissenschaft\, Hochschule\, Technologiepolitik)\
 n\n• LAG DiGiMeSa (Digitale Medien und Schule im Saarland)\n\n• LAG S
 oziales und Gesundheit\n\n• LAG Kultur\n\n• LAG Christ: innen\n\nVerl
 auf der Cluster-Arbeitstagung\n\nI. Maßnahmen formulieren zu den 5 Theme
 ntischen\n\n• 30 Minuten Themensammlung und Maßnahmenerarbeitung am er
 sten Tisch\n\n• 15 Minuten Themensammlung und Maßnahmenerarbeitung an 
 jedem der weiteren vier Tische\n\nII. Pause\n\n• Gemeinsamer Austausch 
 bei feinem chinesischem vegetarischem Essen\n\nII. Galeriegang und Bewert
 ung\n\n• 10 Minuten Galeriegang mit Bewertung der einzelnen Themen der 
 5 Thementische\n\nIII. Resümee\n\n• Gemeinsame Zusammenfassung der Erg
 ebnisse und Ausblick auf die Weiterarbeit.\n\nThematische Schwerpunkte\n\
 nWir werden an fünf Themenschwerpunkten arbeiten\, die federführend aus
  der Bildungspolitik kommen. An jedem Thementisch arbeitet ein Team\, das
  aus mindestens je einem Mitglied jeder der eingeladenen LAGen besteht.\n
 \nThementisch 1: Unser grünes Bildungsverständnis – Werte\, Demokrati
 e & Teilhabe LAG Gesundheit & Soziales und LAG WHT mit den Themen:\n\n•
  Demokratiebildung\n\n• Bildung für nachhaltige Entwicklung (BNE)\n\n
 • Kulturelle Bildung\n\n• Wertevermittlung & gesellschaftliche Teilha
 be\n\n• Migration & Einwanderung\n\n• Schule\, FGTS & Ehrenamt als Or
 te des Zusammenhalts\n\nThementisch 2: Frühkindliche Bildung & frühe Ch
 ancen LAG Gesundheit & Soziales mit den Themen:\n\n• Früh in die Bildu
 ng (Ernährung\, Bewegung etc.)\n\n• Alle Kinder sollen in die Kita geh
 en können\n\n• Mental Health und Erziehung im frühen Kindesalter\n\n
 • Unterstützung für Kinder in armutsgefährdeten Familien\n\nThementi
 sch 3: Professionalisierung & Fachkräfteentwicklung LAG WHT mit den Them
 en:\n\n• Mehr Personal an Schulen\n\n• Professionalisierung in Schuls
 ozialarbeit & Elternarbeit\n\n• Qualifizierung in Vorschulförderung\n\
 n• Kompetenzen im Umgang mit Digitalisierung (KI\, Informatik)\n\nTheme
 ntisch 4: Digitalisierung & Medienbildung LAG DiGiMeSa mit den Themen:\n\
 n• KI\, Pädagogik und Informatik\n\n• Digitale Bildung und Medienkom
 petenz\n\n• Schnittstellen zwischen Schule\, Technik und Gesellschaft\n
 \nThementisch 5: Berufliche Bildung & lebenslanges Lernen LAG DiGiMeSa mi
 t den Themen:\n\n• Übergang Schule–Beruf\n\n• Berufliche Weiterbil
 dung und Qualifizierung\n\n• Digitale Kompetenzen in der beruflichen Bi
 ldung\n\n• Inklusion & Chancengerechtigkeit in der beruflichen Ausbildu
 ng\n\nWir freuen uns über rege Teilnahme und inspirierende\, ehrliche un
 d kreative Diskussionen mit euch.
CLASS:PUBLIC
DTSTART;TZID=Europe/Berlin:20260130T170000
DTEND;TZID=Europe/Berlin:20260130T180000
DTSTAMP:20260422T013317
END:VEVENT
END:VCALENDAR