BEGIN:VCALENDAR
VERSION:2.0
PRODID:gruene-saar.de
METHOD:PUBLISH
BEGIN:VTIMEZONE
TZID:Europe/Berlin
X-LIC-LOCATION:Europe/Berlin
BEGIN:DAYLIGHT
TZOFFSETFROM:+0100
TZOFFSETTO:+0200
TZNAME:CEST
DTSTART:19700329T020000
RRULE:FREQ=YEARLY;INTERVAL=1;BYDAY=-1SU;BYMONTH=3
END:DAYLIGHT
BEGIN:STANDARD
TZOFFSETFROM:+0200
TZOFFSETTO:+0100
TZNAME:CET
DTSTART:19701025T030000
RRULE:FREQ=YEARLY;INTERVAL=1;BYDAY=-1SU;BYMONTH=10
END:STANDARD
END:VTIMEZONE
BEGIN:VEVENT
UID:6068482d15ad97c08a96bbc047f2984d@gruene-saar.de
URL;VALUE=URI:https://gruene-saar.de/termine/digitalen-wandel-gestalten/
LOCATION:
SUMMARY:Digitalen Wandel Gestalten.
DESCRIPTION;ALTREP="data:text/html,%0A%3Ch5%3E%3Cstrong%3ELIVE%20auf%20IN
 STAGRAM%3C%2Fstrong%3E%3C%2Fh5%3E%0A%3Cp%3EWir%20gestalten%20den%20digita
 len%20Wandel%20gemeinsam%21%20%26%23x1f310%3B%26%23x1f4a1%3B%3C%2Fp%3E%0A
 %3Cp%3ESeid%20dabei%2C%20wenn%20%3Cstrong%3ETobias%20Bacherle%3C%2Fstrong
 %3E%20und%20%3Cstrong%3EJeanne%3C%2Fstrong%3E%20am%20%3Cstrong%3EMontag%2
 C%20den%203.%20Februar%202025%2C%20von%2017-18%20Uhr%3C%2Fstrong%3E%20liv
 e%20auf%20Instagram%20%C3%BCber%20innovative%20L%C3%B6sungen%20und%20Chan
 cen%20der%20Digitalisierung%20sprechen.%3C%2Fp%3E%0A%3Cp%3E%23DigitalerWa
 ndel%20%23Innovation%20%23Gr%C3%BCneIdeen%3C%2Fp%3E%0A%3Cp%3E%26nbsp%3B%3
 C%2Fp%3E%0A%0A%0A":LIVE auf INSTAGRAM\n\nWir gestalten den digitalen Wand
 el gemeinsam! 🌐💡\n\nSeid dabei\, wenn Tobias Bacherle und Jeanne am
  Montag\, den 3. Februar 2025\, von 17-18 Uhr live auf Instagram über in
 novative Lösungen und Chancen der Digitalisierung sprechen.\n\n#Digitale
 rWandel #Innovation #GrüneIdeen\n\n 
CLASS:PUBLIC
DTSTART;TZID=Europe/Berlin:20250203T170000
DTEND;TZID=Europe/Berlin:20250203T180000
DTSTAMP:20260425T150849
END:VEVENT
END:VCALENDAR