BEGIN:VCALENDAR
VERSION:2.0
PRODID:gruene-saar.de
METHOD:PUBLISH
BEGIN:VTIMEZONE
TZID:Europe/Berlin
X-LIC-LOCATION:Europe/Berlin
BEGIN:DAYLIGHT
TZOFFSETFROM:+0100
TZOFFSETTO:+0200
TZNAME:CEST
DTSTART:19700329T020000
RRULE:FREQ=YEARLY;INTERVAL=1;BYDAY=-1SU;BYMONTH=3
END:DAYLIGHT
BEGIN:STANDARD
TZOFFSETFROM:+0200
TZOFFSETTO:+0100
TZNAME:CET
DTSTART:19701025T030000
RRULE:FREQ=YEARLY;INTERVAL=1;BYDAY=-1SU;BYMONTH=10
END:STANDARD
END:VTIMEZONE
BEGIN:VEVENT
UID:4e59517fdfba101ef4c1d0790b1eb0a3@gruene-saar.de
URL;VALUE=URI:https://gruene-saar.de/termine/fahrradflohmarkt-ov-saarloui
 s/
LOCATION:
SUMMARY:Fahrradflohmarkt – OV Saarlouis
DESCRIPTION;ALTREP="data:text/html,%0A%3Cp%3ETermin%3A%20Samstag%2C%2025.
 %20April%202026%3Cbr%3EUhrzeit%3A%2010%3A00%20Uhr%3Cbr%3EOrt%3A%20Kleiner
 %20Markt%2C%2066740%20Saarlouis%3C%2Fp%3E%0A":Termin: Samstag\, 25. April
  2026Uhrzeit: 10:00 UhrOrt: Kleiner Markt\, 66740 Saarlouis
CLASS:PUBLIC
DTSTART;TZID=Europe/Berlin:20260425T100000
DTEND;TZID=Europe/Berlin:20260425T110000
DTSTAMP:20260422T141934
END:VEVENT
END:VCALENDAR