BEGIN:VCALENDAR
VERSION:2.0
PRODID:gruene-saar.de
METHOD:PUBLISH
BEGIN:VTIMEZONE
TZID:Europe/Berlin
X-LIC-LOCATION:Europe/Berlin
BEGIN:DAYLIGHT
TZOFFSETFROM:+0100
TZOFFSETTO:+0200
TZNAME:CEST
DTSTART:19700329T020000
RRULE:FREQ=YEARLY;INTERVAL=1;BYDAY=-1SU;BYMONTH=3
END:DAYLIGHT
BEGIN:STANDARD
TZOFFSETFROM:+0200
TZOFFSETTO:+0100
TZNAME:CET
DTSTART:19701025T030000
RRULE:FREQ=YEARLY;INTERVAL=1;BYDAY=-1SU;BYMONTH=10
END:STANDARD
END:VTIMEZONE
BEGIN:VEVENT
UID:50bb27c6b8a087aec323511c7a4d5d23@gruene-saar.de
URL;VALUE=URI:https://gruene-saar.de/termine/gruener-abend-des-oves-kirke
 l/
LOCATION:Bliesberger Hof, Zweibrücker Str. 38, 66459 Kirkel
SUMMARY:Grüner Abend des OVes Kirkel
DESCRIPTION;ALTREP="data:text/html,%0A%3Cp%3E17.04.2024%20ab%2018%3A30%20
 Uhr%20im%20Bliesberger%20Hof%2C%20Kirkel-Limbach%3C%2Fp%3E%0A%0A%0A%0A%3C
 p%3E%3Cstrong%3EThema%3A%20B%C3%BCrgerbeteiligung%20an%20EE-Projekten%20%
 E2%80%93%20M%C3%B6glichkeiten%2C%20aktuelle%20Herausforderungen%20und%20B
 eispiele%3C%2Fstrong%3E%3C%2Fp%3E%0A%0A%0A%0A%3Cp%3EEin%20inspirierender%
 20Vortrag%20%C3%BCber%20M%C3%B6glichkeiten%20der%20B%C3%BCrgerbeteiligung
 %20an%20Erneuerbaren-Energien-Projekten%20mit%20Beispielen%20aus%20dem%20
 Agri-PV-%20und%20Windkraftbereich.%3C%2Fp%3E%0A%0A%0A%0A%3Cp%3EWir%20lade
 n%20Sie%20herzlich%20zu%20einem%20spannenden%20Abend%20ein%2C%20bei%20dem
 %20der%20praxiserfahrene%20Referent%20Thorsten%20Recktenwald%20sein%20Her
 zensthema%2C%20die%20B%C3%BCrgerenergiegenossenschaften%20mit%20Agri-PV%2
 0und%20Windenergieanlagen%2C%20beleuchten%20wird.%3C%2Fp%3E%0A%0A%0A%0A%3
 Cp%3EThorsten%20Recktenwald%20ist%20nicht%20nur%20ein%20Experte%20auf%20d
 iesem%20Gebiet%2C%20sondern%20auch%20Klimapate%20in%20der%20Gemeinde%20Sc
 hmelz.%20Seine%20fundierten%20Kenntnisse%20und%20pers%C3%B6nlichen%20Erfa
 hrungen%20machen%20ihn%20zu%20einem%20herausragenden%20Referenten%2C%20de
 r%20sicherlich%20viele%20Fragen%20an%20diesem%20Abend%20beantworten%20kan
 n.%3C%2Fp%3E%0A%0A%0A%0A%3Cp%3ESeien%20Sie%20dabei%20und%20stellen%20Sie%
 20ihre%20Fragen%21%20Zusammen%20k%C3%B6nnen%20wir%20wichtige%20Schritte%2
 0in%20Richtung%20einer%20nachhaltigeren%20Zukunft%20gehen.%3C%2Fp%3E%0A%0
 A%0A%0A%3Cp%3EAuf%20die%20Initiative%20von%20Thorsten%20Recktenwald%20wir
 d%20eine%20B%C3%BCrgerenergiegenossenschaft%20in%20Schmelz%20gegr%C3%BCnd
 et%2C%20warum%20nicht%20auch%20in%20Kirkel%3F%3C%2Fp%3E%0A%0A%0A%0A%3Cp%3
 EWir%20freuen%20uns%20auf%20zahlreiches%20Erscheinen%20und%20anregende%20
 Diskussionen%21%3C%2Fp%3E%0A%0A%0A%0A%3Cdiv%3E%3Cdiv%20class%3D%22ootb-op
 enstreetmap--map%22%20data-provider%3D%22openstreetmap%22%20data-maptype%
 3D%22marker%22%20data-showmarkers%3D%22true%22%20data-shapestyle%3D%22%25
 7B%2522fillColor%2522%253A%2522%2523008EFF%2522%252C%2522color%2522%253A%
 2522%2523008EFF%2522%252C%2522weight%2522%253A3%257D%22%20data-shapetext%
 3D%22%22%20data-markers%3D%22%255B%257B%2522lat%2522%253A%252249.30816375
 %2522%252C%2522lng%2522%253A%25227.294076172192411%2522%252C%2522text%252
 2%253A%2522%253Cp%253EHotel%2520Bliesbergerhof%252C%252038%252C%2520Zweib
 r%25C3%25BCcker%2520Stra%25C3%259Fe%252C%2520Limbach%252C%2520Kirkel%252C
 %2520Saarpfalz-Kreis%252C%2520Saarland%252C%252066459%252C%2520Deutschlan
 d%253C%252Fp%253E%2522%252C%2522id%2522%253A1712227479896%257D%255D%22%20
 data-bounds%3D%22%5B49.30816375%2C7.294076172192411%5D%22%20data-zoom%3D%
 2218%22%20data-minzoom%3D%222%22%20data-maxzoom%3D%2218%22%20data-draggin
 g%3D%22true%22%20data-touchzoom%3D%22true%22%20data-doubleclickzoom%3D%22
 true%22%20data-scrollwheelzoom%3D%22true%22%20data-marker%3D%22%257B%2522
 iconUrl%2522%253A%2522https%253A%252F%252Fgruene-saar.de%252Fwp-content%2
 52Fplugins%252Footb-openstreetmap%252Fassets%252Fvendor%252Fleaflet%252Fi
 mages%252Fmarker-icon.png%2522%252C%2522iconAnchor%2522%253A%255B12%252C4
 1%255D%252C%2522popupAnchor%2522%253A%255B0%252C-41%255D%257D%22%20style%
 3D%22height%3A400px%22%3E%3C%2Fdiv%3E%3C%2Fdiv%3E%0A":17.04.2024 ab 18:30
  Uhr im Bliesberger Hof\, Kirkel-Limbach\n\nThema: Bürgerbeteiligung an 
 EE-Projekten – Möglichkeiten\, aktuelle Herausforderungen und Beispiel
 e\n\nEin inspirierender Vortrag über Möglichkeiten der Bürgerbeteiligu
 ng an Erneuerbaren-Energien-Projekten mit Beispielen aus dem Agri-PV- und
  Windkraftbereich.\n\nWir laden Sie herzlich zu einem spannenden Abend ei
 n\, bei dem der praxiserfahrene Referent Thorsten Recktenwald sein Herzen
 sthema\, die Bürgerenergiegenossenschaften mit Agri-PV und Windenergiean
 lagen\, beleuchten wird.\n\nThorsten Recktenwald ist nicht nur ein Expert
 e auf diesem Gebiet\, sondern auch Klimapate in der Gemeinde Schmelz. Sei
 ne fundierten Kenntnisse und persönlichen Erfahrungen machen ihn zu eine
 m herausragenden Referenten\, der sicherlich viele Fragen an diesem Abend
  beantworten kann.\n\nSeien Sie dabei und stellen Sie ihre Fragen! Zusamm
 en können wir wichtige Schritte in Richtung einer nachhaltigeren Zukunft
  gehen.\n\nAuf die Initiative von Thorsten Recktenwald wird eine Bürgere
 nergiegenossenschaft in Schmelz gegründet\, warum nicht auch in Kirkel?\
 n\nWir freuen uns auf zahlreiches Erscheinen und anregende Diskussionen!
CLASS:PUBLIC
DTSTART;TZID=Europe/Berlin:20240417T183000
DTEND;TZID=Europe/Berlin:20240417T210000
DTSTAMP:20260421T100608
END:VEVENT
END:VCALENDAR