BEGIN:VCALENDAR
VERSION:2.0
PRODID:gruene-saar.de
METHOD:PUBLISH
BEGIN:VTIMEZONE
TZID:Europe/Berlin
X-LIC-LOCATION:Europe/Berlin
BEGIN:DAYLIGHT
TZOFFSETFROM:+0100
TZOFFSETTO:+0200
TZNAME:CEST
DTSTART:19700329T020000
RRULE:FREQ=YEARLY;INTERVAL=1;BYDAY=-1SU;BYMONTH=3
END:DAYLIGHT
BEGIN:STANDARD
TZOFFSETFROM:+0200
TZOFFSETTO:+0100
TZNAME:CET
DTSTART:19701025T030000
RRULE:FREQ=YEARLY;INTERVAL=1;BYDAY=-1SU;BYMONTH=10
END:STANDARD
END:VTIMEZONE
BEGIN:VEVENT
UID:bede5cf9c377ad1dca1d5542afa2642a@gruene-saar.de
URL;VALUE=URI:https://gruene-saar.de/termine/homburg-lebt-gesund-gruene-h
 omburg/
LOCATION:
SUMMARY:Homburg lebt gesund, Grüne Homburg
DESCRIPTION;ALTREP="data:text/html,%0A%3Cp%3ETermin%3A%20Samstag%2C%2006.
 %20September%202025%3Cbr%3EUhrzeit%3A%2010%3A00%20-%2016%3A00%20Uhr%3Cbr%
 3EOrt%3A%20Christian-Weber-Platz%3C%2Fp%3E%0A%0A%0A%0A%3Cdiv%20class%3D%2
 2wp-block-buttons%20is-layout-flex%20wp-block-buttons-is-layout-flex%22%3
 E%0A%3Cdiv%20class%3D%22wp-block-button%22%3E%3Ca%20class%3D%22wp-block-b
 utton__link%20wp-element-button%22%20href%3D%22Christian-Weber-Platz%22%3
 E%3Cstrong%3EWEITERe%20INFORMATIOnEN%3C%2Fstrong%3E%3C%2Fa%3E%3C%2Fdiv%3E
 %0A%3C%2Fdiv%3E%0A":Termin: Samstag\, 06. September 2025Uhrzeit: 10:00 - 
 16:00 UhrOrt: Christian-Weber-Platz\n\nWEITERe INFORMATIOnEN
CLASS:PUBLIC
DTSTART;TZID=Europe/Berlin:20251006T100000
DTEND;TZID=Europe/Berlin:20251006T110000
DTSTAMP:20260421T115222
END:VEVENT
END:VCALENDAR