BEGIN:VCALENDAR
VERSION:2.0
PRODID:gruene-saar.de
METHOD:PUBLISH
BEGIN:VTIMEZONE
TZID:Europe/Berlin
X-LIC-LOCATION:Europe/Berlin
BEGIN:DAYLIGHT
TZOFFSETFROM:+0100
TZOFFSETTO:+0200
TZNAME:CEST
DTSTART:19700329T020000
RRULE:FREQ=YEARLY;INTERVAL=1;BYDAY=-1SU;BYMONTH=3
END:DAYLIGHT
BEGIN:STANDARD
TZOFFSETFROM:+0200
TZOFFSETTO:+0100
TZNAME:CET
DTSTART:19701025T030000
RRULE:FREQ=YEARLY;INTERVAL=1;BYDAY=-1SU;BYMONTH=10
END:STANDARD
END:VTIMEZONE
BEGIN:VEVENT
UID:b0bfb742fd17521d510dd13a27f7d630@gruene-saar.de
URL;VALUE=URI:https://gruene-saar.de/termine/jubilaeumsfestabend/
LOCATION:Festplatz & Naturbühne Rohrwald, Wallerfanger Str. 60, Rehlinge
 n-Siersburg
SUMMARY:Jubiläumsfestabend
DESCRIPTION;ALTREP="data:text/html,%0A%3Cp%3E%3Cstrong%3EJubil%C3%A4umsfe
 stabend%20zum%2035-j%C3%A4hrigen%20Bestehen%20des%20Ortsverbandes%20von%2
 0B90%2FDie%20Gr%C3%BCnen%3C%2Fstrong%3E%3C%2Fp%3E%0A%3Cp%3E%3Cem%3E%3Cstr
 ong%3ESamstag%2C%20den%2004.%20Mai%202024%3C%2Fstrong%3E%3C%2Fem%3E%3C%2F
 p%3E%0A%3Cp%3EFestplatz%20%26amp%3B%20Naturb%C3%BChne%20Rohrwald%3Cbr%3EW
 allerfanger%20Str.%2060%3Cbr%3E66780%20Rehlingen-Siersburg%3C%2Fp%3E%0A%0
 A%0A%0A%3Cdiv%20style%3D%22height%3A50px%22%20aria-hidden%3D%22true%22%20
 class%3D%22wp-block-spacer%22%3E%3C%2Fdiv%3E%0A%0A%0A%0A%3Cdiv%3E%3Cdiv%2
 0class%3D%22ootb-openstreetmap--map%22%20data-provider%3D%22openstreetmap
 %22%20data-maptype%3D%22marker%22%20data-showmarkers%3D%22true%22%20data-
 shapestyle%3D%22%257B%2522fillColor%2522%253A%2522%2523008EFF%2522%252C%2
 522color%2522%253A%2522%2523008EFF%2522%252C%2522weight%2522%253A3%257D%2
 2%20data-shapetext%3D%22%22%20data-markers%3D%22%255B%257B%2522lat%2522%2
 53A%252249.372971899999996%2522%252C%2522lng%2522%253A%25226.682555253885
 858%2522%252C%2522text%2522%253A%2522%253Cp%253E60%252C%2520Wallerfanger%
 2520Stra%25C3%259Fe%252C%2520Rehlingen%252C%2520Rehlingen-Siersburg%252C%
 2520Landkreis%2520Saarlouis%252C%2520Saarland%252C%252066780%252C%2520Deu
 tschland%253C%252Fp%253E%2522%252C%2522id%2522%253A1713882803607%257D%255
 D%22%20data-bounds%3D%22%5B49.372971899999996%2C6.682555253885858%5D%22%2
 0data-zoom%3D%2218%22%20data-minzoom%3D%222%22%20data-maxzoom%3D%2218%22%
 20data-dragging%3D%22true%22%20data-touchzoom%3D%22true%22%20data-doublec
 lickzoom%3D%22true%22%20data-scrollwheelzoom%3D%22true%22%20data-marker%3
 D%22%257B%2522iconUrl%2522%253A%2522https%253A%252F%252Fgruene-saar.de%25
 2Fwp-content%252Fplugins%252Footb-openstreetmap%252Fassets%252Fvendor%252
 Fleaflet%252Fimages%252Fmarker-icon.png%2522%252C%2522iconAnchor%2522%253
 A%255B12%252C41%255D%252C%2522popupAnchor%2522%253A%255B0%252C-41%255D%25
 7D%22%20style%3D%22height%3A400px%22%3E%3C%2Fdiv%3E%3C%2Fdiv%3E%0A":Jubil
 äumsfestabend zum 35-jährigen Bestehen des Ortsverbandes von B90/Die Gr
 ünen\n\nSamstag\, den 04. Mai 2024\n\nFestplatz & Naturbühne RohrwaldWa
 llerfanger Str. 6066780 Rehlingen-Siersburg
CLASS:PUBLIC
DTSTART;TZID=Europe/Berlin:20240504T160000
DTEND;TZID=Europe/Berlin:20240504T220000
DTSTAMP:20260421T101523
END:VEVENT
END:VCALENDAR