BEGIN:VCALENDAR
VERSION:2.0
PRODID:gruene-saar.de
METHOD:PUBLISH
BEGIN:VTIMEZONE
TZID:Europe/Berlin
X-LIC-LOCATION:Europe/Berlin
BEGIN:DAYLIGHT
TZOFFSETFROM:+0100
TZOFFSETTO:+0200
TZNAME:CEST
DTSTART:19700329T020000
RRULE:FREQ=YEARLY;INTERVAL=1;BYDAY=-1SU;BYMONTH=3
END:DAYLIGHT
BEGIN:STANDARD
TZOFFSETFROM:+0200
TZOFFSETTO:+0100
TZNAME:CET
DTSTART:19701025T030000
RRULE:FREQ=YEARLY;INTERVAL=1;BYDAY=-1SU;BYMONTH=10
END:STANDARD
END:VTIMEZONE
BEGIN:VEVENT
UID:43668055a367eb4166d98327762984a4@gruene-saar.de
URL;VALUE=URI:https://gruene-saar.de/termine/kreis-stammtisch-saarlouis/
LOCATION:
SUMMARY:Kreis-Stammtisch Saarlouis
DESCRIPTION;ALTREP="data:text/html,%0A%3Cp%3ETermin%3A%20Montag%2C%2015.%
 20September%202025%20%3Cbr%3EUhrzeit%3A%2019%20Uhr%20%3Cbr%3EOrt%3A%20Gas
 thaus%20Hector%20Leinen%2C%20Friedrichstr.%2016%2C%2066763%20Dillingen%2F
 Saar%20%3Cbr%3EDiesmal%20im%20Fokus%3A%20Die%20Zukunft%20unserer%20Schwim
 mb%C3%A4der%21%20Bringt%20auch%20eure%20Themen%20mit%20-%20wir%20h%C3%B6r
 en%20zu%21%3C%2Fp%3E%0A%0A%0A%0A%3Cdiv%20class%3D%22wp-block-buttons%20is
 -layout-flex%20wp-block-buttons-is-layout-flex%22%3E%0A%3Cdiv%20class%3D%
 22wp-block-button%22%3E%3Ca%20class%3D%22wp-block-button__link%20wp-eleme
 nt-button%22%20href%3D%22https%3A%2F%2Fgruene-sls.de%2Ftermine%2Fkreis-st
 ammtisch%2F%22%3E%3Cstrong%3EWEITERE%20INFORMATIONEN%3C%2Fstrong%3E%3C%2F
 a%3E%3C%2Fdiv%3E%0A%3C%2Fdiv%3E%0A%0A%0A%0A%3Cp%3E%3C%2Fp%3E%0A":Termin: 
 Montag\, 15. September 2025 Uhrzeit: 19 Uhr Ort: Gasthaus Hector Leinen\,
  Friedrichstr. 16\, 66763 Dillingen/Saar Diesmal im Fokus: Die Zukunft un
 serer Schwimmbäder! Bringt auch eure Themen mit - wir hören zu!\n\nWEIT
 ERE INFORMATIONEN
CLASS:PUBLIC
DTSTART;TZID=Europe/Berlin:20250915T190000
DTEND;TZID=Europe/Berlin:20250915T200000
DTSTAMP:20260423T095253
END:VEVENT
END:VCALENDAR