BEGIN:VCALENDAR
VERSION:2.0
PRODID:gruene-saar.de
METHOD:PUBLISH
BEGIN:VTIMEZONE
TZID:Europe/Berlin
X-LIC-LOCATION:Europe/Berlin
BEGIN:DAYLIGHT
TZOFFSETFROM:+0100
TZOFFSETTO:+0200
TZNAME:CEST
DTSTART:19700329T020000
RRULE:FREQ=YEARLY;INTERVAL=1;BYDAY=-1SU;BYMONTH=3
END:DAYLIGHT
BEGIN:STANDARD
TZOFFSETFROM:+0200
TZOFFSETTO:+0100
TZNAME:CET
DTSTART:19701025T030000
RRULE:FREQ=YEARLY;INTERVAL=1;BYDAY=-1SU;BYMONTH=10
END:STANDARD
END:VTIMEZONE
BEGIN:VEVENT
UID:ee8d77d8d091e3f18fbc0833c86259b3@gruene-saar.de
URL;VALUE=URI:https://gruene-saar.de/termine/kreismitgliederversammlung-k
 v-saarbruecken/
LOCATION:Riegelsberghalle, Alleestraße 1, 66292 Riegelsberg
SUMMARY:Kreismitgliederversammlung KV Saarbrücken
DESCRIPTION;ALTREP="data:text/html,%0A%0A%0A%3Cp%3E%3Cstrong%3EFreitag%2C
 %20den%202.%20Februar%202024%2C%20um%2018%3A00%20Uhr%3C%2Fstrong%3E%3Cbr%
 3E%3Cstrong%3ERiegelsberghalle%2C%20Alleestra%C3%9Fe%201%2C%2066292%20Rie
 gelsberg%2C%3C%2Fstrong%3E.%3Cbr%3E%3Cbr%3E%3Cstrong%3EVorgeschlagene%20T
 agesordnung%3C%2Fstrong%3E%3Cbr%3ETOP%201%3A%20Begr%C3%BC%C3%9Fung%3Cbr%3
 ETOP%202%3A%20Formalia%20%28Beschlussf%C3%A4higkeit%2C%20Wahl%20des%20Pr%
 C3%A4sidiums%2C%20Wahl%20der%20Wahlhelfer%2Ainnen%29%3Cbr%3ETOP%203%3A%20
 Wahlprogramm%20f%C3%BCr%20den%20Regionalverband%20Saarbr%C3%BCcken%3Cbr%3
 ETOP%204%3A%20Vorstandswahlen%3Cbr%3E%26nbsp%3B%26nbsp%3B%26nbsp%3B%204.1
 .%20Wahl%20der%20Kreisvorsitzende%3Cbr%3E%26nbsp%3B%26nbsp%3B%26nbsp%3B%2
 04.2.%20Wahl%20des%20Kreisvorsitzenden%3Cbr%3E%26nbsp%3B%26nbsp%3B%26nbsp
 %3B%204.3.%20Wahl%20des%2Fder%20Schatzmeister%2FSchatzmeisterin%3Cbr%3E%2
 6nbsp%3B%26nbsp%3B%26nbsp%3B%204.4.%20Wahl%20des%2Fder%20Schriftf%C3%BChr
 ers%2FSchriftf%C3%BChrerin%3Cbr%3E%26nbsp%3B%26nbsp%3B%26nbsp%3B%204.5.%2
 0Wahl%20der%20Beisitzer%3Ainnen%3Cbr%3E%3Cbr%3E%3Cstrong%3EAntr%C3%A4ge%3
 C%2Fstrong%3E%3Cbr%3EDie%20Frist%20f%C3%BCr%20Antr%C3%A4ge%20zum%20Wahlpr
 ogramm%20endet%20am%26nbsp%3B%3Cstrong%3EFreitag%2C%20den%2026.%20Januar%
 202024%2C%20um%2023%3A59%20Uhr%3C%2Fstrong%3E.%20Antr%C3%A4ge%20k%C3%B6nn
 en%20in%20Antragsgr%C3%BCn%20gestellt%20werden%20oder%20unter%20hallo%40g
 ruene-kv-saarbruecken.de%20an%20die%20Kreisvorsitzenden%20gesendet%20werd
 en.%3C%2Fp%3E%0A%0A%0A%0A%3Cdiv%3E%3Cdiv%20class%3D%22ootb-openstreetmap-
 -map%22%20data-provider%3D%22openstreetmap%22%20data-maptype%3D%22marker%
 22%20data-showmarkers%3D%22true%22%20data-shapestyle%3D%22%257B%2522fillC
 olor%2522%253A%2522%2523008EFF%2522%252C%2522color%2522%253A%2522%2523008
 EFF%2522%252C%2522weight%2522%253A3%257D%22%20data-shapetext%3D%22%22%20d
 ata-markers%3D%22%255B%257B%2522lat%2522%253A%252249.3083901%2522%252C%25
 22lng%2522%253A%25226.9383829%2522%252C%2522text%2522%253A%2522%253Cp%253
 ERiegelsberghalle%252C%2520Alleestra%25C3%259Fe%252C%2520%25C3%259Cberhof
 en%252C%2520Riegelsberg%252C%2520Regionalverband%2520Saarbr%25C3%25BCcken
 %252C%2520Saarland%252C%252066292%252C%2520Deutschland%253C%252Fp%253E%25
 22%252C%2522id%2522%253A1706616201680%257D%255D%22%20data-bounds%3D%22%5B
 49.3083901%2C6.9383829%5D%22%20data-zoom%3D%2218%22%20data-minzoom%3D%222
 %22%20data-maxzoom%3D%2218%22%20data-dragging%3D%22true%22%20data-touchzo
 om%3D%22true%22%20data-doubleclickzoom%3D%22true%22%20data-scrollwheelzoo
 m%3D%22true%22%20data-marker%3D%22%257B%2522iconUrl%2522%253A%2522https%2
 53A%252F%252Fgruene-saar.de%252Fwp-content%252Fplugins%252Footb-openstree
 tmap%252Fassets%252Fvendor%252Fleaflet%252Fimages%252Fmarker-icon.png%252
 2%252C%2522iconAnchor%2522%253A%255B12%252C41%255D%252C%2522popupAnchor%2
 522%253A%255B0%252C-41%255D%257D%22%20style%3D%22height%3A400px%22%3E%3C%
 2Fdiv%3E%3C%2Fdiv%3E%0A":Freitag\, den 2. Februar 2024\, um 18:00 UhrRieg
 elsberghalle\, Alleestraße 1\, 66292 Riegelsberg\,.Vorgeschlagene Tageso
 rdnungTOP 1: BegrüßungTOP 2: Formalia (Beschlussfähigkeit\, Wahl des P
 räsidiums\, Wahl der Wahlhelfer*innen)TOP 3: Wahlprogramm für den Regio
 nalverband SaarbrückenTOP 4: Vorstandswahlen    4.1. Wahl der Kreisvo
 rsitzende    4.2. Wahl des Kreisvorsitzenden    4.3. Wahl des/der S
 chatzmeister/Schatzmeisterin    4.4. Wahl des/der Schriftführers/Schr
 iftführerin    4.5. Wahl der Beisitzer:innenAnträgeDie Frist für An
 träge zum Wahlprogramm endet am Freitag\, den 26. Januar 2024\, um 23:5
 9 Uhr. Anträge können in Antragsgrün gestellt werden oder unter hallo@
 gruene-kv-saarbruecken.de an die Kreisvorsitzenden gesendet werden.
CLASS:PUBLIC
DTSTART;TZID=Europe/Berlin:20240202T180000
DTEND;TZID=Europe/Berlin:20240202T220000
DTSTAMP:20260421T134936
END:VEVENT
END:VCALENDAR