BEGIN:VCALENDAR
VERSION:2.0
PRODID:gruene-saar.de
METHOD:PUBLISH
BEGIN:VTIMEZONE
TZID:Europe/Berlin
X-LIC-LOCATION:Europe/Berlin
BEGIN:DAYLIGHT
TZOFFSETFROM:+0100
TZOFFSETTO:+0200
TZNAME:CEST
DTSTART:19700329T020000
RRULE:FREQ=YEARLY;INTERVAL=1;BYDAY=-1SU;BYMONTH=3
END:DAYLIGHT
BEGIN:STANDARD
TZOFFSETFROM:+0200
TZOFFSETTO:+0100
TZNAME:CET
DTSTART:19701025T030000
RRULE:FREQ=YEARLY;INTERVAL=1;BYDAY=-1SU;BYMONTH=10
END:STANDARD
END:VTIMEZONE
BEGIN:VEVENT
UID:ef1d0422f034f52be49ad4fcfd50f61c@gruene-saar.de
URL;VALUE=URI:https://gruene-saar.de/termine/kreisstammtisch-st-wendel/
LOCATION:
SUMMARY:Kreisstammtisch St. Wendel
DESCRIPTION;ALTREP="data:text/html,%0A%3Cp%3ETermin%3A%20Dienstag%2C%2021
 .%20Oktober%202025%3C%2Fp%3E%0A%0A%0A%0A%3Cp%3EUhrzeit%3A%2018%3A00%20Uhr
 %3C%2Fp%3E%0A%0A%0A%0A%3Cp%3EOrt%3A%20Altes%20Bosenbachstadion%2C%20Missi
 onshausstra%C3%9Fe%2C%2066606%20St.%20Wendel%2C%20Treffpunkt%20vorm%20Fes
 tzelt%3C%2Fp%3E%0A":Termin: Dienstag\, 21. Oktober 2025\n\nUhrzeit: 18:00
  Uhr\n\nOrt: Altes Bosenbachstadion\, Missionshausstraße\, 66606 St. Wen
 del\, Treffpunkt vorm Festzelt
CLASS:PUBLIC
DTSTART;TZID=Europe/Berlin:20251021T180000
DTEND;TZID=Europe/Berlin:20251021T190000
DTSTAMP:20260421T114329
END:VEVENT
END:VCALENDAR