BEGIN:VCALENDAR
VERSION:2.0
PRODID:gruene-saar.de
METHOD:PUBLISH
BEGIN:VTIMEZONE
TZID:Europe/Berlin
X-LIC-LOCATION:Europe/Berlin
BEGIN:DAYLIGHT
TZOFFSETFROM:+0100
TZOFFSETTO:+0200
TZNAME:CEST
DTSTART:19700329T020000
RRULE:FREQ=YEARLY;INTERVAL=1;BYDAY=-1SU;BYMONTH=3
END:DAYLIGHT
BEGIN:STANDARD
TZOFFSETFROM:+0200
TZOFFSETTO:+0100
TZNAME:CET
DTSTART:19701025T030000
RRULE:FREQ=YEARLY;INTERVAL=1;BYDAY=-1SU;BYMONTH=10
END:STANDARD
END:VTIMEZONE
BEGIN:VEVENT
UID:b2ea951565b4e1f1da5434e257379de6@gruene-saar.de
URL;VALUE=URI:https://gruene-saar.de/termine/kv-saarbruecken-wildkraeuter
 wanderung/
LOCATION:
SUMMARY:KV Saarbrücken: Wildkräuterwanderung
DESCRIPTION;ALTREP="data:text/html,%0A%3Cp%3ETermin%3A%20Sonntag%2C%2026.
 %20April%202026%3Cbr%3EUhrzeit%3A%2013%3A00%20Uhr%3Cbr%3ETreffpunkt%3A%20
 Eingang%20ehemaliges%20Messegel%C3%A4nde%20%2F%20Impfzentrum%2C%20Stra%C3
 %9Fe%20Am%20Schanzenberg%2C%20Saarbr%C3%BCcken%3C%2Fp%3E%0A%0A%0A%0A%3Cdi
 v%20class%3D%22wp-block-buttons%20is-layout-flex%20wp-block-buttons-is-la
 yout-flex%22%3E%0A%3Cdiv%20class%3D%22wp-block-button%22%3E%3Ca%20class%3
 D%22wp-block-button__link%20wp-element-button%22%20href%3D%22https%3A%2F%
 2Fgruene-kv-saarbruecken.de%2Fevents%2Fwildkraeuterwanderung-in-saarbruec
 ken%2F%22%3E%3Cstrong%3EMEHR%20INFOS%3C%2Fstrong%3E%3C%2Fa%3E%3C%2Fdiv%3E
 %0A%3C%2Fdiv%3E%0A":Termin: Sonntag\, 26. April 2026Uhrzeit: 13:00 UhrTre
 ffpunkt: Eingang ehemaliges Messegelände / Impfzentrum\, Straße Am Scha
 nzenberg\, Saarbrücken\n\nMEHR INFOS
CLASS:PUBLIC
DTSTART;TZID=Europe/Berlin:20260426T130000
DTEND;TZID=Europe/Berlin:20260426T140000
DTSTAMP:20260422T113546
END:VEVENT
END:VCALENDAR