BEGIN:VCALENDAR
VERSION:2.0
PRODID:gruene-saar.de
METHOD:PUBLISH
BEGIN:VTIMEZONE
TZID:Europe/Berlin
X-LIC-LOCATION:Europe/Berlin
BEGIN:DAYLIGHT
TZOFFSETFROM:+0100
TZOFFSETTO:+0200
TZNAME:CEST
DTSTART:19700329T020000
RRULE:FREQ=YEARLY;INTERVAL=1;BYDAY=-1SU;BYMONTH=3
END:DAYLIGHT
BEGIN:STANDARD
TZOFFSETFROM:+0200
TZOFFSETTO:+0100
TZNAME:CET
DTSTART:19701025T030000
RRULE:FREQ=YEARLY;INTERVAL=1;BYDAY=-1SU;BYMONTH=10
END:STANDARD
END:VTIMEZONE
BEGIN:VEVENT
UID:b2d85c116793a33e13471a6ed1e02dc7@gruene-saar.de
URL;VALUE=URI:https://gruene-saar.de/termine/kv-saarlouis-stammtisch/
LOCATION:
SUMMARY:KV Saarlouis-Stammtisch
DESCRIPTION;ALTREP="data:text/html,%0A%3Cp%3ETermin%3A%20Freitag%2C%2027.
 %20April%202026%3Cbr%3EUhrzeit%3A%2019%3A00%20Uhr%3Cbr%3EOrt%3A%20Gastst%
 C3%A4tte%20Hector%20Leinen%20%28Friedrichstra%C3%9Fe%2016%2C%2066763%20Di
 llingen%2FSaar%29%3C%2Fp%3E%0A":Termin: Freitag\, 27. April 2026Uhrzeit: 
 19:00 UhrOrt: Gaststätte Hector Leinen (Friedrichstraße 16\, 66763 Dill
 ingen/Saar)
CLASS:PUBLIC
DTSTART;TZID=Europe/Berlin:20260427T190000
DTEND;TZID=Europe/Berlin:20260427T200000
DTSTAMP:20260425T131852
END:VEVENT
END:VCALENDAR