BEGIN:VCALENDAR
VERSION:2.0
PRODID:gruene-saar.de
METHOD:PUBLISH
BEGIN:VTIMEZONE
TZID:Europe/Berlin
X-LIC-LOCATION:Europe/Berlin
BEGIN:DAYLIGHT
TZOFFSETFROM:+0100
TZOFFSETTO:+0200
TZNAME:CEST
DTSTART:19700329T020000
RRULE:FREQ=YEARLY;INTERVAL=1;BYDAY=-1SU;BYMONTH=3
END:DAYLIGHT
BEGIN:STANDARD
TZOFFSETFROM:+0200
TZOFFSETTO:+0100
TZNAME:CET
DTSTART:19701025T030000
RRULE:FREQ=YEARLY;INTERVAL=1;BYDAY=-1SU;BYMONTH=10
END:STANDARD
END:VTIMEZONE
BEGIN:VEVENT
UID:9c2157a616ff58dbe0ee496c4e4921c6@gruene-saar.de
URL;VALUE=URI:https://gruene-saar.de/termine/lag-bildung/
LOCATION:Online, ZOOM
SUMMARY:LAG Bildung
DESCRIPTION;ALTREP="data:text/html,%0A%3Cp%3ETermin%3A%2021.02.2024%3C%2F
 p%3E%0A%3Cp%3EUhrzeit%3A%2019%3A00%20Uhr%3C%2Fp%3E%0A%3Cp%3EOrt%3A%20Onli
 ne%2C%20ZOOM-Videokonferenz%3C%2Fp%3E%0A%3Cp%3ETagesordnung%3A%3C%2Fp%3E%
 0A%3Cp%3E1.%20Begr%C3%BC%C3%9Fung%20%3Cbr%3E2.%20Bericht%20Aktuelles%20au
 s%20der%20Bildungspolitik%3Cbr%3E3.%20Bericht%20Befragung%20LEV%20Gymnasi
 en%20%3Cbr%3E4.%20Planung%20Maritzen%20-%20Veranstaltung%20%3Cbr%3E5.%20B
 ericht%20der%20Planungsgruppe%20Bildungsstiftung%20%3Cbr%3E6.%20Ausblick%
 3A%20neue%20Gemeinschaftsschulverordnung%20%2F%20Meinungsbild%20MBA%20%3C
 br%3E7.%20Sonstiges%3C%2Fp%3E%0A":Termin: 21.02.2024\n\nUhrzeit: 19:00 Uh
 r\n\nOrt: Online\, ZOOM-Videokonferenz\n\nTagesordnung:\n\n1. Begrüßung
  2. Bericht Aktuelles aus der Bildungspolitik3. Bericht Befragung LEV Gym
 nasien 4. Planung Maritzen - Veranstaltung 5. Bericht der Planungsgruppe 
 Bildungsstiftung 6. Ausblick: neue Gemeinschaftsschulverordnung / Meinung
 sbild MBA 7. Sonstiges
CLASS:PUBLIC
DTSTART;TZID=Europe/Berlin:20240221T190000
DTEND;TZID=Europe/Berlin:20240221T220000
DTSTAMP:20260423T111929
END:VEVENT
END:VCALENDAR