BEGIN:VCALENDAR
VERSION:2.0
PRODID:gruene-saar.de
METHOD:PUBLISH
BEGIN:VTIMEZONE
TZID:Europe/Berlin
X-LIC-LOCATION:Europe/Berlin
BEGIN:DAYLIGHT
TZOFFSETFROM:+0100
TZOFFSETTO:+0200
TZNAME:CEST
DTSTART:19700329T020000
RRULE:FREQ=YEARLY;INTERVAL=1;BYDAY=-1SU;BYMONTH=3
END:DAYLIGHT
BEGIN:STANDARD
TZOFFSETFROM:+0200
TZOFFSETTO:+0100
TZNAME:CET
DTSTART:19701025T030000
RRULE:FREQ=YEARLY;INTERVAL=1;BYDAY=-1SU;BYMONTH=10
END:STANDARD
END:VTIMEZONE
BEGIN:VEVENT
UID:cdd6fa5020ab21da066bc2a21536b3c5@gruene-saar.de
URL;VALUE=URI:https://gruene-saar.de/termine/lag-bildung-4/
LOCATION:
SUMMARY:LAG Bildung
DESCRIPTION;ALTREP="data:text/html,%0A%3Cp%3ETermin%3A%20Dienstag%2C%2015
 .%20April%202025%3Cbr%3EUhrzeit%3A%2019%20Uhr%3Cbr%3EOrt%3A%20Online%3C%2
 Fp%3E%0A":Termin: Dienstag\, 15. April 2025Uhrzeit: 19 UhrOrt: Online
CLASS:PUBLIC
DTSTART;TZID=Europe/Berlin:20250415T190000
DTEND;TZID=Europe/Berlin:20250415T200000
DTSTAMP:20260421T132600
END:VEVENT
END:VCALENDAR