BEGIN:VCALENDAR
VERSION:2.0
PRODID:gruene-saar.de
METHOD:PUBLISH
BEGIN:VTIMEZONE
TZID:Europe/Berlin
X-LIC-LOCATION:Europe/Berlin
BEGIN:DAYLIGHT
TZOFFSETFROM:+0100
TZOFFSETTO:+0200
TZNAME:CEST
DTSTART:19700329T020000
RRULE:FREQ=YEARLY;INTERVAL=1;BYDAY=-1SU;BYMONTH=3
END:DAYLIGHT
BEGIN:STANDARD
TZOFFSETFROM:+0200
TZOFFSETTO:+0100
TZNAME:CET
DTSTART:19701025T030000
RRULE:FREQ=YEARLY;INTERVAL=1;BYDAY=-1SU;BYMONTH=10
END:STANDARD
END:VTIMEZONE
BEGIN:VEVENT
UID:1bbd27447425e96fd38fae61d6a3df5b@gruene-saar.de
URL;VALUE=URI:https://gruene-saar.de/termine/lag-bildung-7/
LOCATION:
SUMMARY:LAG Bildung
DESCRIPTION;ALTREP="data:text/html,%0A%3Cp%3ETermin%3A%20Sonntag%2C%2023.
 %20November%202025%3C%2Fp%3E%0A%0A%0A%0A%3Cp%3EUhrzeit%3A%2016%3A00%20Uhr
 %3C%2Fp%3E%0A%0A%0A%0A%3Cp%3EOrt%3A%20LGS%3C%2Fp%3E%0A%0A%0A%0A%3Cp%3E%3C
 %2Fp%3E%0A":Termin: Sonntag\, 23. November 2025\n\nUhrzeit: 16:00 Uhr\n\n
 Ort: LGS
CLASS:PUBLIC
DTSTART;TZID=Europe/Berlin:20251123T160000
DTEND;TZID=Europe/Berlin:20251123T170000
DTSTAMP:20260421T234116
END:VEVENT
END:VCALENDAR