BEGIN:VCALENDAR
VERSION:2.0
PRODID:gruene-saar.de
METHOD:PUBLISH
BEGIN:VTIMEZONE
TZID:Europe/Berlin
X-LIC-LOCATION:Europe/Berlin
BEGIN:DAYLIGHT
TZOFFSETFROM:+0100
TZOFFSETTO:+0200
TZNAME:CEST
DTSTART:19700329T020000
RRULE:FREQ=YEARLY;INTERVAL=1;BYDAY=-1SU;BYMONTH=3
END:DAYLIGHT
BEGIN:STANDARD
TZOFFSETFROM:+0200
TZOFFSETTO:+0100
TZNAME:CET
DTSTART:19701025T030000
RRULE:FREQ=YEARLY;INTERVAL=1;BYDAY=-1SU;BYMONTH=10
END:STANDARD
END:VTIMEZONE
BEGIN:VEVENT
UID:ecaac406cc10950b7be09e2a2304f8fd@gruene-saar.de
URL;VALUE=URI:https://gruene-saar.de/termine/lag-bildung-8/
LOCATION:
SUMMARY:LAG Bildung
DESCRIPTION;ALTREP="data:text/html,%0A%3Cp%3ETermin%3A%20Donnerstag%2C%20
 26.%20M%C3%A4rz%3Cbr%3EUhrzeit%3A%2019%3A30%20Uhr%3Cbr%3EOrt%3A%20online%
 20via%20Zoom%3C%2Fp%3E%0A":Termin: Donnerstag\, 26. MärzUhrzeit: 19:30 U
 hrOrt: online via Zoom
CLASS:PUBLIC
DTSTART;TZID=Europe/Berlin:20260326T193000
DTEND;TZID=Europe/Berlin:20260326T203000
DTSTAMP:20260421T100531
END:VEVENT
END:VCALENDAR