BEGIN:VCALENDAR
VERSION:2.0
PRODID:gruene-saar.de
METHOD:PUBLISH
BEGIN:VTIMEZONE
TZID:Europe/Berlin
X-LIC-LOCATION:Europe/Berlin
BEGIN:DAYLIGHT
TZOFFSETFROM:+0100
TZOFFSETTO:+0200
TZNAME:CEST
DTSTART:19700329T020000
RRULE:FREQ=YEARLY;INTERVAL=1;BYDAY=-1SU;BYMONTH=3
END:DAYLIGHT
BEGIN:STANDARD
TZOFFSETFROM:+0200
TZOFFSETTO:+0100
TZNAME:CET
DTSTART:19701025T030000
RRULE:FREQ=YEARLY;INTERVAL=1;BYDAY=-1SU;BYMONTH=10
END:STANDARD
END:VTIMEZONE
BEGIN:VEVENT
UID:a490b54b62f12764059adc50f9f11290@gruene-saar.de
URL;VALUE=URI:https://gruene-saar.de/termine/lag-christinnen/
LOCATION:
SUMMARY:LAG Christ:innen
DESCRIPTION;ALTREP="data:text/html,%0A%3Cp%3ETermin%3A%20Donnerstag%2C%20
 29.%20Januar%202026%20%3Cbr%3EUhrzeit%3A%2019%3A00%20Uhr%20%3Cbr%3EOrt%3A
 %20Gr%C3%BCnen%20Raum%20%28Cecilienstra%C3%9Fe%2011%2C%2066111%20Saarbr%C
 3%BCcken%29%20%3Cbr%3EMit%20Wahl%20Sprecher%3Ainnen%20u.%20Delegierte%20B
 AG%2C%20ggf.%20Umbenennung%20LAG%3C%2Fp%3E%0A":Termin: Donnerstag\, 29. J
 anuar 2026 Uhrzeit: 19:00 Uhr Ort: Grünen Raum (Cecilienstraße 11\, 661
 11 Saarbrücken) Mit Wahl Sprecher:innen u. Delegierte BAG\, ggf. Umbenen
 nung LAG
CLASS:PUBLIC
DTSTART;TZID=Europe/Berlin:20260129T190000
DTEND;TZID=Europe/Berlin:20260129T200000
DTSTAMP:20260422T012713
END:VEVENT
END:VCALENDAR