BEGIN:VCALENDAR
VERSION:2.0
PRODID:gruene-saar.de
METHOD:PUBLISH
BEGIN:VTIMEZONE
TZID:Europe/Berlin
X-LIC-LOCATION:Europe/Berlin
BEGIN:DAYLIGHT
TZOFFSETFROM:+0100
TZOFFSETTO:+0200
TZNAME:CEST
DTSTART:19700329T020000
RRULE:FREQ=YEARLY;INTERVAL=1;BYDAY=-1SU;BYMONTH=3
END:DAYLIGHT
BEGIN:STANDARD
TZOFFSETFROM:+0200
TZOFFSETTO:+0100
TZNAME:CET
DTSTART:19701025T030000
RRULE:FREQ=YEARLY;INTERVAL=1;BYDAY=-1SU;BYMONTH=10
END:STANDARD
END:VTIMEZONE
BEGIN:VEVENT
UID:c079c0374b48dd9922316a9edbe8a80e@gruene-saar.de
URL;VALUE=URI:https://gruene-saar.de/termine/lag-demokratie/
LOCATION:
SUMMARY:LAG Demokratie
DESCRIPTION;ALTREP="data:text/html,%0A%3Cp%3ELiebe%20Mitglieder%20der%20L
 AG%20Demokratie%20und%20Recht%2C%3C%2Fp%3E%0A%3Cp%3Eda%20Valeria%20die%20
 Partei%20leider%20verlassen%20hat%2C%20m%C3%BCssen%20wir%20eine%20Spreche
 rin%20nachw%C3%A4hlen.%20Zudem%20gibt%20es%20einige%20Themen%2C%20die%20d
 erzeit%20interessant%20sind%20und%20die%20wir%20diskutieren%20sollten.%3C
 %2Fp%3E%0A%3Cp%3EDaher%20lade%20ich%20euch%20herzlich%20am%20%3Cstrong%3E
 4.%20Dezember%20um%2018%20Uhr%3C%2Fstrong%3E%26nbsp%3Bzu%20einem%20Treffe
 n%20der%20LAG%20Demokratie%20und%20Recht%20ein.%3C%2Fp%3E%0A%3Cp%3ETOP%20
 1%3A%20Begr%C3%BC%C3%9Fung%3Cbr%3ETOP%202%3A%20Nachwahl%20eine%3Ar%20Spre
 cher%3Ain%20%28offener%20Platz%29%3Cbr%3ETOP%203%3A%20Neuwahl%20der%20BAG
 -Delegation%3Cbr%3ETOP%204%3A%20Sicherheitspaket%20%E2%80%93%20wie%20geht
 %20es%20innenpolitisch%20weiter%3F%3Cbr%3ETOP%205%3A%20Polizeireform%20im
 %20Saarland%3Cbr%3ETOP%206%3A%20Ideen%20f%C3%BCr%20Projekte%202025%3Cbr%3
 ETOP%207%3A%20Sonstiges%3C%2Fp%3E%0A%3Cp%3EMeldet%20euch%20gerne%2C%20wen
 n%20ihr%20eigen%20Vorschl%C3%A4ge%20f%C3%BCr%20einen%20Tagesordnungspunkt
 %20habt.%20Gebt%20mir%20gerne%20Bescheid%2C%20wenn%20ihr%20als%20Sprecher
 %3Ain%20kandidieren%20m%C3%B6chtet.%3C%2Fp%3E%0A%3Cp%3EHerzliche%20Gr%C3%
 BC%C3%9Fe%3Cbr%3EJeanne%3C%2Fp%3E%0A":Liebe Mitglieder der LAG Demokratie
  und Recht\,\n\nda Valeria die Partei leider verlassen hat\, müssen wir 
 eine Sprecherin nachwählen. Zudem gibt es einige Themen\, die derzeit in
 teressant sind und die wir diskutieren sollten.\n\nDaher lade ich euch he
 rzlich am 4. Dezember um 18 Uhr zu einem Treffen der LAG Demokratie und 
 Recht ein.\n\nTOP 1: BegrüßungTOP 2: Nachwahl eine:r Sprecher:in (offen
 er Platz)TOP 3: Neuwahl der BAG-DelegationTOP 4: Sicherheitspaket – wie
  geht es innenpolitisch weiter?TOP 5: Polizeireform im SaarlandTOP 6: Ide
 en für Projekte 2025TOP 7: Sonstiges\n\nMeldet euch gerne\, wenn ihr eig
 en Vorschläge für einen Tagesordnungspunkt habt. Gebt mir gerne Beschei
 d\, wenn ihr als Sprecher:in kandidieren möchtet.\n\nHerzliche GrüßeJe
 anne
CLASS:PUBLIC
DTSTART;TZID=Europe/Berlin:20241204T180000
DTEND;TZID=Europe/Berlin:20241204T210000
DTSTAMP:20260423T112026
END:VEVENT
END:VCALENDAR