BEGIN:VCALENDAR
VERSION:2.0
PRODID:gruene-saar.de
METHOD:PUBLISH
BEGIN:VTIMEZONE
TZID:Europe/Berlin
X-LIC-LOCATION:Europe/Berlin
BEGIN:DAYLIGHT
TZOFFSETFROM:+0100
TZOFFSETTO:+0200
TZNAME:CEST
DTSTART:19700329T020000
RRULE:FREQ=YEARLY;INTERVAL=1;BYDAY=-1SU;BYMONTH=3
END:DAYLIGHT
BEGIN:STANDARD
TZOFFSETFROM:+0200
TZOFFSETTO:+0100
TZNAME:CET
DTSTART:19701025T030000
RRULE:FREQ=YEARLY;INTERVAL=1;BYDAY=-1SU;BYMONTH=10
END:STANDARD
END:VTIMEZONE
BEGIN:VEVENT
UID:549e2d73674885648d4dcf826f9bd5e7@gruene-saar.de
URL;VALUE=URI:https://gruene-saar.de/termine/lag-demokratie-recht/
LOCATION:LGST, Bahnhofstraße 36, 66111 Saarbrücken
SUMMARY:LAG DEMOKRATIE & RECHT
DESCRIPTION;ALTREP="data:text/html,%0A%3Cp%3E%3Cstrong%3EDatum%3C%2Fstron
 g%3E%3A%2019.%20M%C3%A4rz%202025%3C%2Fp%3E%0A%3Cp%3E%3Cstrong%3EUhrzeit%3
 C%2Fstrong%3E%3A%2019%3A00%20Uhr%3C%2Fp%3E%0A%3Cp%3E%3Cstrong%3EOrt%3C%2F
 strong%3E%3A%20Landesgesch%C3%A4ftsstelle%2C%20Bahnhofstra%C3%9Fe%2036%2C
 %2066111%20Saarbr%C3%BCcken%3C%2Fp%3E%0A%3Cp%3E%3Cstrong%3ETagesordnung%3
 C%2Fstrong%3E%3C%2Fp%3E%0A%3Cp%3ETOP%201%3A%20Begr%C3%BC%C3%9Fung%3C%2Fp%
 3E%0A%3Cp%3ETOP%202%3A%20Nachwahl%20eine%3Ar%20Sprecher%3Ain%20%28offener
 %20Platz%29%3C%2Fp%3E%0A%3Cp%3ETOP%203%3A%20Neuwahl%20der%20BAG-Delegatio
 n%3C%2Fp%3E%0A%3Cp%3ETOP%204%3A%20Sicherheitspaket%20%E2%80%93%20wie%20ge
 ht%20es%20innenpolitisch%20weiter%3F%3C%2Fp%3E%0A%3Cp%3ETOP%205%3A%20Poli
 zeireform%20im%20Saarland%3C%2Fp%3E%0A%3Cp%3ETOP%206%3A%20Ideen%20f%C3%BC
 r%20Projekte%202025%3C%2Fp%3E%0A%3Cp%3ETOP%207%3A%20Sonstiges%20%3Cbr%3E%
 3Cbr%3E%3C%2Fp%3E%0A%0A%0A%0A%0A%0A%3Cdiv%3E%3Cdiv%20class%3D%22ootb-open
 streetmap--map%22%20data-provider%3D%22openstreetmap%22%20data-maptype%3D
 %22marker%22%20data-showmarkers%3D%22true%22%20data-shapestyle%3D%22%257B
 %2522fillColor%2522%253A%2522%2523008EFF%2522%252C%2522color%2522%253A%25
 22%2523008EFF%2522%252C%2522weight%2522%253A3%257D%22%20data-shapetext%3D
 %22%22%20data-markers%3D%22%255B%257B%2522lat%2522%253A%252249.23485015%2
 522%252C%2522lng%2522%253A%25226.994737971376679%2522%252C%2522text%2522%
 253A%2522%253Cp%253E36%252C%2520Bahnhofstra%25C3%259Fe%252C%2520St.%2520J
 ohanner%2520Markt%252C%2520St.%2520Johann%252C%2520Bezirk%2520Mitte%252C%
 2520Saarbr%25C3%25BCcken%252C%2520Regionalverband%2520Saarbr%25C3%25BCcke
 n%252C%2520Saarland%252C%252066111%252C%2520Deutschland%253C%252Fp%253E%2
 522%252C%2522textRaw%2522%253A%252236%252C%2520Bahnhofstra%25C3%259Fe%252
 C%2520St.%2520Johanner%2520Markt%252C%2520St.%2520Johann%252C%2520Bezirk%
 2520Mitte%252C%2520Saarbr%25C3%25BCcken%252C%2520Regionalverband%2520Saar
 br%25C3%25BCcken%252C%2520Saarland%252C%252066111%252C%2520Deutschland%25
 22%252C%2522id%2522%253A1741601323425%257D%252C%257B%2522lat%2522%253A%25
 2249.23485015%2522%252C%2522lng%2522%253A%25226.994737971376679%2522%252C
 %2522text%2522%253A%2522%253Cp%253E36%252C%2520Bahnhofstra%25C3%259Fe%252
 C%2520St.%2520Johanner%2520Markt%252C%2520St.%2520Johann%252C%2520Bezirk%
 2520Mitte%252C%2520Saarbr%25C3%25BCcken%252C%2520Regionalverband%2520Saar
 br%25C3%25BCcken%252C%2520Saarland%252C%252066111%252C%2520Deutschland%25
 3C%252Fp%253E%2522%252C%2522textRaw%2522%253A%252236%252C%2520Bahnhofstra
 %25C3%259Fe%252C%2520St.%2520Johanner%2520Markt%252C%2520St.%2520Johann%2
 52C%2520Bezirk%2520Mitte%252C%2520Saarbr%25C3%25BCcken%252C%2520Regionalv
 erband%2520Saarbr%25C3%25BCcken%252C%2520Saarland%252C%252066111%252C%252
 0Deutschland%2522%252C%2522id%2522%253A1741601329268%257D%255D%22%20data-
 bounds%3D%22%5B49.23485015%2C6.994737971376679%5D%22%20data-zoom%3D%2218%
 22%20data-minzoom%3D%222%22%20data-maxzoom%3D%2218%22%20data-dragging%3D%
 22true%22%20data-touchzoom%3D%22true%22%20data-doubleclickzoom%3D%22true%
 22%20data-scrollwheelzoom%3D%22true%22%20data-marker%3D%22%257B%2522iconU
 rl%2522%253A%2522https%253A%252F%252Fgruene-saar.de%252Fwp-content%252Fpl
 ugins%252Footb-openstreetmap%252Fassets%252Fvendor%252Fleaflet%252Fimages
 %252Fmarker-icon.png%2522%252C%2522iconAnchor%2522%253A%255B12%252C41%255
 D%252C%2522popupAnchor%2522%253A%255B0%252C-41%255D%257D%22%20style%3D%22
 height%3A400px%22%3E%3C%2Fdiv%3E%3C%2Fdiv%3E%0A":Datum: 19. März 2025\n\
 nUhrzeit: 19:00 Uhr\n\nOrt: Landesgeschäftsstelle\, Bahnhofstraße 36\, 
 66111 Saarbrücken\n\nTagesordnung\n\nTOP 1: Begrüßung\n\nTOP 2: Nachwa
 hl eine:r Sprecher:in (offener Platz)\n\nTOP 3: Neuwahl der BAG-Delegatio
 n\n\nTOP 4: Sicherheitspaket – wie geht es innenpolitisch weiter?\n\nTO
 P 5: Polizeireform im Saarland\n\nTOP 6: Ideen für Projekte 2025\n\nTOP 
 7: Sonstiges
CLASS:PUBLIC
DTSTART;TZID=Europe/Berlin:20250319T190000
DTEND;TZID=Europe/Berlin:20250319T200000
DTSTAMP:20260421T115119
END:VEVENT
END:VCALENDAR