BEGIN:VCALENDAR
VERSION:2.0
PRODID:gruene-saar.de
METHOD:PUBLISH
BEGIN:VTIMEZONE
TZID:Europe/Berlin
X-LIC-LOCATION:Europe/Berlin
BEGIN:DAYLIGHT
TZOFFSETFROM:+0100
TZOFFSETTO:+0200
TZNAME:CEST
DTSTART:19700329T020000
RRULE:FREQ=YEARLY;INTERVAL=1;BYDAY=-1SU;BYMONTH=3
END:DAYLIGHT
BEGIN:STANDARD
TZOFFSETFROM:+0200
TZOFFSETTO:+0100
TZNAME:CET
DTSTART:19701025T030000
RRULE:FREQ=YEARLY;INTERVAL=1;BYDAY=-1SU;BYMONTH=10
END:STANDARD
END:VTIMEZONE
BEGIN:VEVENT
UID:680be3df5e943bf2b023224284dda60f@gruene-saar.de
URL;VALUE=URI:https://gruene-saar.de/termine/lag-demokratie-und-recht-2/
LOCATION:
SUMMARY:LAG Demokratie und Recht
DESCRIPTION;ALTREP="data:text/html,%0A%3Cp%3ETermin%3A%20Freitag%2004.%20
 Juli%202025%3Cbr%3EUhrzeit%3A%2018%3A30%20Uhr%3Cbr%3EOrt%3A%20LGS%3C%2Fp%
 3E%0A%0A%0A%0A%3Cp%3ETagesordnung%3A%3Cbr%3ETOP%201%3A%20Begr%C3%BC%C3%9F
 ung%3Cbr%3ETOP%202%3A%20Bericht%20BAG%20Sitzung%20in%20M%C3%BCnchen%3Cbr%
 3ETOP%203%3A%20Bericht%20Treffen%20mit%20GdP%20und%20PolizeiGr%C3%BCn%20e
 .V.%3Cbr%3ETOP%204%3A%20Berichte%20von%20Jeanne%20aus%20dem%20Bundestag%2
 0und%20Ihren%20Aussch%C3%BCssen%3Cbr%3ETOP%205%3A%20AfD-Verbot%20-%20Stan
 d%20der%20Dinge%20und%20Ausblick%20in%20die%20Zukunft%3Cbr%3ETOP%206%3A%2
 0Ausblick%20Landtagswahl%202027%20und%20programmatische%20Ausrichtung%3Cb
 r%3ETOP%207%3A%20Sonstiges%3C%2Fp%3E%0A":Termin: Freitag 04. Juli 2025Uhr
 zeit: 18:30 UhrOrt: LGS\n\nTagesordnung:TOP 1: BegrüßungTOP 2: Bericht 
 BAG Sitzung in MünchenTOP 3: Bericht Treffen mit GdP und PolizeiGrün e.
 V.TOP 4: Berichte von Jeanne aus dem Bundestag und Ihren AusschüssenTOP 
 5: AfD-Verbot - Stand der Dinge und Ausblick in die ZukunftTOP 6: Ausblic
 k Landtagswahl 2027 und programmatische AusrichtungTOP 7: Sonstiges
CLASS:PUBLIC
DTSTART;TZID=Europe/Berlin:20250704T183000
DTEND;TZID=Europe/Berlin:20250704T193000
DTSTAMP:20260423T095500
END:VEVENT
END:VCALENDAR