BEGIN:VCALENDAR
VERSION:2.0
PRODID:gruene-saar.de
METHOD:PUBLISH
BEGIN:VTIMEZONE
TZID:Europe/Berlin
X-LIC-LOCATION:Europe/Berlin
BEGIN:DAYLIGHT
TZOFFSETFROM:+0100
TZOFFSETTO:+0200
TZNAME:CEST
DTSTART:19700329T020000
RRULE:FREQ=YEARLY;INTERVAL=1;BYDAY=-1SU;BYMONTH=3
END:DAYLIGHT
BEGIN:STANDARD
TZOFFSETFROM:+0200
TZOFFSETTO:+0100
TZNAME:CET
DTSTART:19701025T030000
RRULE:FREQ=YEARLY;INTERVAL=1;BYDAY=-1SU;BYMONTH=10
END:STANDARD
END:VTIMEZONE
BEGIN:VEVENT
UID:ca81f98a1ea9a13ee94959a98d2ae949@gruene-saar.de
URL;VALUE=URI:https://gruene-saar.de/termine/lag-demokratie-und-recht-3/
LOCATION:
SUMMARY:LAG Demokratie und Recht
DESCRIPTION;ALTREP="data:text/html,%0A%3Cp%3ETermin%3A%20Mittwoch%2003.%2
 0September%202025%3Cbr%3EUhrzeit%3A%2018%3A30%20Uhr%20%3Cbr%3EOrt%20Lande
 sgesch%C3%A4ftsstelle%2C%20Bahnhofstr.%2036%2C%2066111%20Saarbr%C3%BCcken
 %20%28Eingang%20neben%20Dudweilerstr.%201%29%3C%2Fp%3E%0A%0A%0A%0A%3Cp%3E
 %3C%2Fp%3E%0A":Termin: Mittwoch 03. September 2025Uhrzeit: 18:30 Uhr Ort 
 Landesgeschäftsstelle\, Bahnhofstr. 36\, 66111 Saarbrücken (Eingang neb
 en Dudweilerstr. 1)
CLASS:PUBLIC
DTSTART;TZID=Europe/Berlin:20250903T183000
DTEND;TZID=Europe/Berlin:20250903T193000
DTSTAMP:20260421T183904
END:VEVENT
END:VCALENDAR