BEGIN:VCALENDAR
VERSION:2.0
PRODID:gruene-saar.de
METHOD:PUBLISH
BEGIN:VTIMEZONE
TZID:Europe/Berlin
X-LIC-LOCATION:Europe/Berlin
BEGIN:DAYLIGHT
TZOFFSETFROM:+0100
TZOFFSETTO:+0200
TZNAME:CEST
DTSTART:19700329T020000
RRULE:FREQ=YEARLY;INTERVAL=1;BYDAY=-1SU;BYMONTH=3
END:DAYLIGHT
BEGIN:STANDARD
TZOFFSETFROM:+0200
TZOFFSETTO:+0100
TZNAME:CET
DTSTART:19701025T030000
RRULE:FREQ=YEARLY;INTERVAL=1;BYDAY=-1SU;BYMONTH=10
END:STANDARD
END:VTIMEZONE
BEGIN:VEVENT
UID:8564f2dcaf1d6f453c9792471061b704@gruene-saar.de
URL;VALUE=URI:https://gruene-saar.de/termine/lag-demokratie-und-recht-6/
LOCATION:
SUMMARY:LAG Demokratie und Recht
DESCRIPTION;ALTREP="data:text/html,%0A%3Cp%3ETermin%3A%20Dienstag%2C%2020
 .%20Januar%202026%3C%2Fp%3E%0A%0A%0A%0A%3Cp%3EUhrzeit%3A%2017%3A00%20-%20
 19%3A00%3C%2Fp%3E%0A%0A%0A%0A%3Cp%3EOrt%3A%20LGS%3C%2Fp%3E%0A%0A%0A%0A%3C
 p%3ETreffen%20mit%20dem%20Saarl%C3%A4ndischen%20Richterbund%3C%2Fp%3E%0A"
 :Termin: Dienstag\, 20. Januar 2026\n\nUhrzeit: 17:00 - 19:00\n\nOrt: LGS
 \n\nTreffen mit dem Saarländischen Richterbund
CLASS:PUBLIC
DTSTART;TZID=Europe/Berlin:20260120T170000
DTEND;TZID=Europe/Berlin:20260120T180000
DTSTAMP:20260421T235844
END:VEVENT
END:VCALENDAR