BEGIN:VCALENDAR
VERSION:2.0
PRODID:gruene-saar.de
METHOD:PUBLISH
BEGIN:VTIMEZONE
TZID:Europe/Berlin
X-LIC-LOCATION:Europe/Berlin
BEGIN:DAYLIGHT
TZOFFSETFROM:+0100
TZOFFSETTO:+0200
TZNAME:CEST
DTSTART:19700329T020000
RRULE:FREQ=YEARLY;INTERVAL=1;BYDAY=-1SU;BYMONTH=3
END:DAYLIGHT
BEGIN:STANDARD
TZOFFSETFROM:+0200
TZOFFSETTO:+0100
TZNAME:CET
DTSTART:19701025T030000
RRULE:FREQ=YEARLY;INTERVAL=1;BYDAY=-1SU;BYMONTH=10
END:STANDARD
END:VTIMEZONE
BEGIN:VEVENT
UID:c7dc9a681edb2a55c3021abc595c2238@gruene-saar.de
URL;VALUE=URI:https://gruene-saar.de/termine/lag-digime/
LOCATION:
SUMMARY:LAG DigiMe
DESCRIPTION;ALTREP="data:text/html,%0A%3Cp%3ETermin%3A%20Mittwoch%2016.%2
 0April%202025%3Cbr%3EUhrzeit%3A%2019%3A30%20Uhr%20%3Cbr%3EOrt%3A%20LGS%3C
 %2Fp%3E%0A":Termin: Mittwoch 16. April 2025Uhrzeit: 19:30 Uhr Ort: LGS
CLASS:PUBLIC
DTSTART;TZID=Europe/Berlin:20250416T193000
DTEND;TZID=Europe/Berlin:20250416T203000
DTSTAMP:20260423T101448
END:VEVENT
END:VCALENDAR