BEGIN:VCALENDAR
VERSION:2.0
PRODID:gruene-saar.de
METHOD:PUBLISH
BEGIN:VTIMEZONE
TZID:Europe/Berlin
X-LIC-LOCATION:Europe/Berlin
BEGIN:DAYLIGHT
TZOFFSETFROM:+0100
TZOFFSETTO:+0200
TZNAME:CEST
DTSTART:19700329T020000
RRULE:FREQ=YEARLY;INTERVAL=1;BYDAY=-1SU;BYMONTH=3
END:DAYLIGHT
BEGIN:STANDARD
TZOFFSETFROM:+0200
TZOFFSETTO:+0100
TZNAME:CET
DTSTART:19701025T030000
RRULE:FREQ=YEARLY;INTERVAL=1;BYDAY=-1SU;BYMONTH=10
END:STANDARD
END:VTIMEZONE
BEGIN:VEVENT
UID:5de52e17fd6f90eaa4fd7dfc73394a2e@gruene-saar.de
URL;VALUE=URI:https://gruene-saar.de/termine/lag-energie-5/
LOCATION:
SUMMARY:LAG Energie
DESCRIPTION;ALTREP="data:text/html,%0A%3Cp%3ETermin%3A%20Mittwoch%2030.%2
 0April%202025%3Cbr%3EUhrzeit%3A%2017%3A30%20Uhr%3Cbr%3EOnline%20via%20Zoo
 m%3C%2Fp%3E%0A":Termin: Mittwoch 30. April 2025Uhrzeit: 17:30 UhrOnline v
 ia Zoom
CLASS:PUBLIC
DTSTART;TZID=Europe/Berlin:20250430T173000
DTEND;TZID=Europe/Berlin:20250430T183000
DTSTAMP:20260423T095209
END:VEVENT
END:VCALENDAR