BEGIN:VCALENDAR
VERSION:2.0
PRODID:gruene-saar.de
METHOD:PUBLISH
BEGIN:VTIMEZONE
TZID:Europe/Berlin
X-LIC-LOCATION:Europe/Berlin
BEGIN:DAYLIGHT
TZOFFSETFROM:+0100
TZOFFSETTO:+0200
TZNAME:CEST
DTSTART:19700329T020000
RRULE:FREQ=YEARLY;INTERVAL=1;BYDAY=-1SU;BYMONTH=3
END:DAYLIGHT
BEGIN:STANDARD
TZOFFSETFROM:+0200
TZOFFSETTO:+0100
TZNAME:CET
DTSTART:19701025T030000
RRULE:FREQ=YEARLY;INTERVAL=1;BYDAY=-1SU;BYMONTH=10
END:STANDARD
END:VTIMEZONE
BEGIN:VEVENT
UID:2f9a4de9203370f4dbc127cf8b0a8589@gruene-saar.de
URL;VALUE=URI:https://gruene-saar.de/termine/lag-energie-6/
LOCATION:
SUMMARY:LAG Energie
DESCRIPTION;ALTREP="data:text/html,%0A%3Cp%3ETermin%3A%20Mittwoch%2C%2021
 .%20Mai%202025%3Cbr%3EUhrzeit%3A%2017%3A30%20Uhr%3Cbr%3EOrt%3A%20online%2
 0via%20Zoom%3C%2Fp%3E%0A%0A%0A%0A%3Cp%3E%3C%2Fp%3E%0A":Termin: Mittwoch\,
  21. Mai 2025Uhrzeit: 17:30 UhrOrt: online via Zoom
CLASS:PUBLIC
DTSTART;TZID=Europe/Berlin:20250521T173000
DTEND;TZID=Europe/Berlin:20250521T183000
DTSTAMP:20260421T150646
END:VEVENT
END:VCALENDAR