BEGIN:VCALENDAR
VERSION:2.0
PRODID:gruene-saar.de
METHOD:PUBLISH
BEGIN:VTIMEZONE
TZID:Europe/Berlin
X-LIC-LOCATION:Europe/Berlin
BEGIN:DAYLIGHT
TZOFFSETFROM:+0100
TZOFFSETTO:+0200
TZNAME:CEST
DTSTART:19700329T020000
RRULE:FREQ=YEARLY;INTERVAL=1;BYDAY=-1SU;BYMONTH=3
END:DAYLIGHT
BEGIN:STANDARD
TZOFFSETFROM:+0200
TZOFFSETTO:+0100
TZNAME:CET
DTSTART:19701025T030000
RRULE:FREQ=YEARLY;INTERVAL=1;BYDAY=-1SU;BYMONTH=10
END:STANDARD
END:VTIMEZONE
BEGIN:VEVENT
UID:7ef76dd8fe018598165e2e161c1e1cc3@gruene-saar.de
URL;VALUE=URI:https://gruene-saar.de/termine/lag-feminismus/
LOCATION:
SUMMARY:LAG Feminismus
DESCRIPTION;ALTREP="data:text/html,%0A%3Cp%3ETermin%3A%20Dienstag%2C%2001
 .%20Juli%202025%3Cbr%3EUhrzeit%3A%2018%3A00%20Uhr%3Cbr%3EOrt%3A%20digital
 %3C%2Fp%3E%0A":Termin: Dienstag\, 01. Juli 2025Uhrzeit: 18:00 UhrOrt: dig
 ital
CLASS:PUBLIC
DTSTART;TZID=Europe/Berlin:20250701T180000
DTEND;TZID=Europe/Berlin:20250701T190000
DTSTAMP:20260421T165258
END:VEVENT
END:VCALENDAR