BEGIN:VCALENDAR
VERSION:2.0
PRODID:gruene-saar.de
METHOD:PUBLISH
BEGIN:VTIMEZONE
TZID:Europe/Berlin
X-LIC-LOCATION:Europe/Berlin
BEGIN:DAYLIGHT
TZOFFSETFROM:+0100
TZOFFSETTO:+0200
TZNAME:CEST
DTSTART:19700329T020000
RRULE:FREQ=YEARLY;INTERVAL=1;BYDAY=-1SU;BYMONTH=3
END:DAYLIGHT
BEGIN:STANDARD
TZOFFSETFROM:+0200
TZOFFSETTO:+0100
TZNAME:CET
DTSTART:19701025T030000
RRULE:FREQ=YEARLY;INTERVAL=1;BYDAY=-1SU;BYMONTH=10
END:STANDARD
END:VTIMEZONE
BEGIN:VEVENT
UID:bbaf5776b1e9d365734e27333ee94856@gruene-saar.de
URL;VALUE=URI:https://gruene-saar.de/termine/lag-feminismus-gleichstellun
 g-2/
LOCATION:
SUMMARY:LAG Feminismus & Gleichstellung
DESCRIPTION;ALTREP="data:text/html,%0A%3Cp%3ETermin%3A%20Donnerstag%2C%20
 11.%20September%202025%20%3Cbr%3EUhrzeit%3A%2019%20Uhr%20%3Cbr%3EOrt%3A%2
 0digital%3C%2Fp%3E%0A":Termin: Donnerstag\, 11. September 2025 Uhrzeit: 1
 9 Uhr Ort: digital
CLASS:PUBLIC
DTSTART;TZID=Europe/Berlin:20250911T190000
DTEND;TZID=Europe/Berlin:20250911T200000
DTSTAMP:20260421T190109
END:VEVENT
END:VCALENDAR