BEGIN:VCALENDAR
VERSION:2.0
PRODID:gruene-saar.de
METHOD:PUBLISH
BEGIN:VTIMEZONE
TZID:Europe/Berlin
X-LIC-LOCATION:Europe/Berlin
BEGIN:DAYLIGHT
TZOFFSETFROM:+0100
TZOFFSETTO:+0200
TZNAME:CEST
DTSTART:19700329T020000
RRULE:FREQ=YEARLY;INTERVAL=1;BYDAY=-1SU;BYMONTH=3
END:DAYLIGHT
BEGIN:STANDARD
TZOFFSETFROM:+0200
TZOFFSETTO:+0100
TZNAME:CET
DTSTART:19701025T030000
RRULE:FREQ=YEARLY;INTERVAL=1;BYDAY=-1SU;BYMONTH=10
END:STANDARD
END:VTIMEZONE
BEGIN:VEVENT
UID:b9df5d16ae11ffb1b7f4d361916e0ed8@gruene-saar.de
URL;VALUE=URI:https://gruene-saar.de/termine/lag-feminismus-und-gleichste
 llung-2/
LOCATION:Digital
SUMMARY:LAG Feminismus und Gleichstellung
DESCRIPTION;ALTREP="data:text/html,%0A%3Cp%3EDas%20n%C3%A4chste%20digital
 e%20Treffen%20der%20LAG%20Feminismus%20und%20Gleichstellung%20findet%20sa
 tt%20am%3A%20Dienstag%2C%20den%2010.02.2026%20um%2018%20Uhr.%20%3C%2Fp%3E
 %0A%0A%0A%0A%3Cp%3ESchwerpunktthema%20Gesundheit%20von%20Frauen%3C%2Fp%3E
 %0A%0A%0A%0A%3Cp%3E%3Cbr%3EKontakt%20zu%20R%C3%BCckfragen%20unter%3A%20%3
 Ca%20href%3D%22LAG_Feminismus%40gruene-saar.de%22%20data-type%3D%22link%2
 2%20data-id%3D%22LAG_Feminismus%40gruene-saar.de%22%3ELAG_Feminismus%40gr
 uene-saar.de%3C%2Fa%3E%3C%2Fp%3E%0A":Das nächste digitale Treffen der LA
 G Feminismus und Gleichstellung findet satt am: Dienstag\, den 10.02.2026
  um 18 Uhr.\n\nSchwerpunktthema Gesundheit von Frauen\n\nKontakt zu Rück
 fragen unter: LAG_Feminismus@gruene-saar.de
CLASS:PUBLIC
DTSTART;TZID=Europe/Berlin:20260210T180000
DTEND;TZID=Europe/Berlin:20260210T190000
DTSTAMP:20260422T013014
END:VEVENT
END:VCALENDAR