BEGIN:VCALENDAR
VERSION:2.0
PRODID:gruene-saar.de
METHOD:PUBLISH
BEGIN:VTIMEZONE
TZID:Europe/Berlin
X-LIC-LOCATION:Europe/Berlin
BEGIN:DAYLIGHT
TZOFFSETFROM:+0100
TZOFFSETTO:+0200
TZNAME:CEST
DTSTART:19700329T020000
RRULE:FREQ=YEARLY;INTERVAL=1;BYDAY=-1SU;BYMONTH=3
END:DAYLIGHT
BEGIN:STANDARD
TZOFFSETFROM:+0200
TZOFFSETTO:+0100
TZNAME:CET
DTSTART:19701025T030000
RRULE:FREQ=YEARLY;INTERVAL=1;BYDAY=-1SU;BYMONTH=10
END:STANDARD
END:VTIMEZONE
BEGIN:VEVENT
UID:d1d392003109002d0c995cee27caff2a@gruene-saar.de
URL;VALUE=URI:https://gruene-saar.de/termine/lag-gesundheit-soziales/
LOCATION:
SUMMARY:LAG Gesundheit & Soziales
DESCRIPTION;ALTREP="data:text/html,%0A%3Cp%3ETermin%3A%20Mittwoch%2C%2020
 .%20August%202025%3Cbr%3EUhrzeit%3A%2019%20Uhr%3Cbr%3EOrt%3A%20Gr%C3%BCne
 r%20Raum%20%28Cecilienstr.%204%2C%2066111%20Saarbr%C3%BCcken%29%3C%2Fp%3E
 %0A":Termin: Mittwoch\, 20. August 2025Uhrzeit: 19 UhrOrt: Grüner Raum (
 Cecilienstr. 4\, 66111 Saarbrücken)
CLASS:PUBLIC
DTSTART;TZID=Europe/Berlin:20250820T190000
DTEND;TZID=Europe/Berlin:20250820T200000
DTSTAMP:20260421T183904
END:VEVENT
END:VCALENDAR