BEGIN:VCALENDAR
VERSION:2.0
PRODID:gruene-saar.de
METHOD:PUBLISH
BEGIN:VTIMEZONE
TZID:Europe/Berlin
X-LIC-LOCATION:Europe/Berlin
BEGIN:DAYLIGHT
TZOFFSETFROM:+0100
TZOFFSETTO:+0200
TZNAME:CEST
DTSTART:19700329T020000
RRULE:FREQ=YEARLY;INTERVAL=1;BYDAY=-1SU;BYMONTH=3
END:DAYLIGHT
BEGIN:STANDARD
TZOFFSETFROM:+0200
TZOFFSETTO:+0100
TZNAME:CET
DTSTART:19701025T030000
RRULE:FREQ=YEARLY;INTERVAL=1;BYDAY=-1SU;BYMONTH=10
END:STANDARD
END:VTIMEZONE
BEGIN:VEVENT
UID:10d244cc9cea8bb0a6ed490090a13ada@gruene-saar.de
URL;VALUE=URI:https://gruene-saar.de/termine/lag-gesundheit-soziales-4/
LOCATION:
SUMMARY:LAG Gesundheit & Soziales
DESCRIPTION;ALTREP="data:text/html,%0A%3Cp%3ETermin%3A%20Samstag%2C%2006.
 %20Juni%202026%3Cbr%3EUhrzeit%3A%2018%3A30%20Uhr%3Cbr%3EOrt%3A%20Gr%C3%BC
 ner%20Raum%20%28Cecilienstra%C3%9Fe%2011%2C%2066111%20Saarbr%C3%BCcken%29
 %3C%2Fp%3E%0A":Termin: Samstag\, 06. Juni 2026Uhrzeit: 18:30 UhrOrt: Grü
 ner Raum (Cecilienstraße 11\, 66111 Saarbrücken)
CLASS:PUBLIC
DTSTART;TZID=Europe/Berlin:20260606T183000
DTEND;TZID=Europe/Berlin:20260606T193000
DTSTAMP:20260422T115531
END:VEVENT
END:VCALENDAR