BEGIN:VCALENDAR
VERSION:2.0
PRODID:gruene-saar.de
METHOD:PUBLISH
BEGIN:VTIMEZONE
TZID:Europe/Berlin
X-LIC-LOCATION:Europe/Berlin
BEGIN:DAYLIGHT
TZOFFSETFROM:+0100
TZOFFSETTO:+0200
TZNAME:CEST
DTSTART:19700329T020000
RRULE:FREQ=YEARLY;INTERVAL=1;BYDAY=-1SU;BYMONTH=3
END:DAYLIGHT
BEGIN:STANDARD
TZOFFSETFROM:+0200
TZOFFSETTO:+0100
TZNAME:CET
DTSTART:19701025T030000
RRULE:FREQ=YEARLY;INTERVAL=1;BYDAY=-1SU;BYMONTH=10
END:STANDARD
END:VTIMEZONE
BEGIN:VEVENT
UID:2830cce009ff6aac781f265decbd4f7b@gruene-saar.de
URL;VALUE=URI:https://gruene-saar.de/termine/lag-kultur/
LOCATION:
SUMMARY:LAG Kultur
DESCRIPTION;ALTREP="data:text/html,%0A%3Cp%3ETreffen%20der%20Landesarbeit
 sgemeinschaft%20Kultur%20der%20Gr%C3%BCnen%20im%20Saarland.%3C%2Fp%3E%0A%
 3Cp%3ETermin%3A%2026.11.2024%3C%2Fp%3E%0A%3Cp%3EUhrzeit%3A%2019%3A00%20Uh
 r%3C%2Fp%3E%0A%3Cp%3EOrt%3A%20Zoom%3C%2Fp%3E%0A%3Cp%3EKontakt%3A%26nbsp%3
 B%3Ca%20href%3D%22mailto%3Alag_kultur%40gruene-saar.de%22%3Elag_kultur%40
 gruene-saar.de%26nbsp%3B%3C%2Fa%3E%3C%2Fp%3E%0A%3Cp%3EUm%20Anmeldung%20wi
 rd%20gebeten.%3C%2Fp%3E%0A":Treffen der Landesarbeitsgemeinschaft Kultur 
 der Grünen im Saarland.\n\nTermin: 26.11.2024\n\nUhrzeit: 19:00 Uhr\n\nO
 rt: Zoom\n\nKontakt: lag_kultur@gruene-saar.de \n\nUm Anmeldung wird ge
 beten.
CLASS:PUBLIC
DTSTART;TZID=Europe/Berlin:20241126T190000
DTEND;TZID=Europe/Berlin:20241126T200000
DTSTAMP:20260421T133538
END:VEVENT
END:VCALENDAR