BEGIN:VCALENDAR
VERSION:2.0
PRODID:gruene-saar.de
METHOD:PUBLISH
BEGIN:VTIMEZONE
TZID:Europe/Berlin
X-LIC-LOCATION:Europe/Berlin
BEGIN:DAYLIGHT
TZOFFSETFROM:+0100
TZOFFSETTO:+0200
TZNAME:CEST
DTSTART:19700329T020000
RRULE:FREQ=YEARLY;INTERVAL=1;BYDAY=-1SU;BYMONTH=3
END:DAYLIGHT
BEGIN:STANDARD
TZOFFSETFROM:+0200
TZOFFSETTO:+0100
TZNAME:CET
DTSTART:19701025T030000
RRULE:FREQ=YEARLY;INTERVAL=1;BYDAY=-1SU;BYMONTH=10
END:STANDARD
END:VTIMEZONE
BEGIN:VEVENT
UID:f31fe7045e1a504c572a977d5d804fa1@gruene-saar.de
URL;VALUE=URI:https://gruene-saar.de/termine/lag-kultur-2/
LOCATION:
SUMMARY:LAG Kultur
DESCRIPTION;ALTREP="data:text/html,%0A%3Cp%3ETermin%3A%20Donnerstag%2C%20
 08.%20Mai%202025%3Cbr%3EUhrzeit%3A%2019%3A00%20Uhr%3Cbr%3EOrt%3A%20R%C3%A
 4ume%20der%20Saarbr%C3%BCcker%20Stadtratsfraktion%3C%2Fp%3E%0A":Termin: D
 onnerstag\, 08. Mai 2025Uhrzeit: 19:00 UhrOrt: Räume der Saarbrücker St
 adtratsfraktion
CLASS:PUBLIC
DTSTART;TZID=Europe/Berlin:20250508T190000
DTEND;TZID=Europe/Berlin:20250508T200000
DTSTAMP:20260421T150809
END:VEVENT
END:VCALENDAR