BEGIN:VCALENDAR
VERSION:2.0
PRODID:gruene-saar.de
METHOD:PUBLISH
BEGIN:VTIMEZONE
TZID:Europe/Berlin
X-LIC-LOCATION:Europe/Berlin
BEGIN:DAYLIGHT
TZOFFSETFROM:+0100
TZOFFSETTO:+0200
TZNAME:CEST
DTSTART:19700329T020000
RRULE:FREQ=YEARLY;INTERVAL=1;BYDAY=-1SU;BYMONTH=3
END:DAYLIGHT
BEGIN:STANDARD
TZOFFSETFROM:+0200
TZOFFSETTO:+0100
TZNAME:CET
DTSTART:19701025T030000
RRULE:FREQ=YEARLY;INTERVAL=1;BYDAY=-1SU;BYMONTH=10
END:STANDARD
END:VTIMEZONE
BEGIN:VEVENT
UID:160a94a2be921def6ac3e91e8e126e84@gruene-saar.de
URL;VALUE=URI:https://gruene-saar.de/termine/lag-kultur-3/
LOCATION:
SUMMARY:LAG Kultur
DESCRIPTION;ALTREP="data:text/html,%0A%3Cp%3ETermin%3A%20Dienstag%2C%2012
 .%20August%202025%3Cbr%3EUhrzeit%3A%2018%3A30%20Uhr%3Cbr%3EOrt%3A%20R%C3%
 A4umlichkeiten%20der%20Saarbr%C3%BCcker%20Stadtratsfraktion%3C%2Fp%3E%0A%
 0A%0A%0A%3Cp%3E%3C%2Fp%3E%0A":Termin: Dienstag\, 12. August 2025Uhrzeit: 
 18:30 UhrOrt: Räumlichkeiten der Saarbrücker Stadtratsfraktion
CLASS:PUBLIC
DTSTART;TZID=Europe/Berlin:20250812T183000
DTEND;TZID=Europe/Berlin:20250812T193000
DTSTAMP:20260421T183829
END:VEVENT
END:VCALENDAR