BEGIN:VCALENDAR
VERSION:2.0
PRODID:gruene-saar.de
METHOD:PUBLISH
BEGIN:VTIMEZONE
TZID:Europe/Berlin
X-LIC-LOCATION:Europe/Berlin
BEGIN:DAYLIGHT
TZOFFSETFROM:+0100
TZOFFSETTO:+0200
TZNAME:CEST
DTSTART:19700329T020000
RRULE:FREQ=YEARLY;INTERVAL=1;BYDAY=-1SU;BYMONTH=3
END:DAYLIGHT
BEGIN:STANDARD
TZOFFSETFROM:+0200
TZOFFSETTO:+0100
TZNAME:CET
DTSTART:19701025T030000
RRULE:FREQ=YEARLY;INTERVAL=1;BYDAY=-1SU;BYMONTH=10
END:STANDARD
END:VTIMEZONE
BEGIN:VEVENT
UID:624b32568d68a48303b5c6cc63b0cd97@gruene-saar.de
URL;VALUE=URI:https://gruene-saar.de/termine/lag-landwirtschaft/
LOCATION:Posthof Saarlouis, Postgässchen 5-10, Saarlouis
SUMMARY:LAG Landwirtschaft
DESCRIPTION;ALTREP="data:text/html,%0A%3Cp%3ETreffen%20der%20LAG%20Landwi
 rtschaft%3C%2Fp%3E%0A%0A%0A%0A%3Cp%3ETermin%3A%2023.%20April%3C%2Fp%3E%0A
 %0A%0A%0A%3Cp%3EZeit%3A%2020%3A00%20Uhr%3C%2Fp%3E%0A%0A%0A%0A%3Cp%3EOrt%3
 A%20Posthof%20Saarlouis%2C%20Postg%C3%A4sschen%205-10%2C%2066740%20Saarlo
 uis%3C%2Fp%3E%0A%0A%0A%0A%3Cp%3EAnmeldung%20unter%3A%20%3Ca%20href%3D%22h
 ttps%3A%2F%2Fgruene-saar.de%2Farbeitsgemeinschaften-2%2F%23%22%3ELAG_Land
 wirtschaft%40gruene-saar.de%3C%2Fa%3E%3C%2Fp%3E%0A%0A%0A":Treffen der LAG
  Landwirtschaft\n\nTermin: 23. April\n\nZeit: 20:00 Uhr\n\nOrt: Posthof S
 aarlouis\, Postgässchen 5-10\, 66740 Saarlouis\n\nAnmeldung unter: LAG_L
 andwirtschaft@gruene-saar.de
CLASS:PUBLIC
DTSTART;TZID=Europe/Berlin:20240423T200000
DTEND;TZID=Europe/Berlin:20240423T210000
DTSTAMP:20260423T112128
END:VEVENT
END:VCALENDAR