BEGIN:VCALENDAR
VERSION:2.0
PRODID:gruene-saar.de
METHOD:PUBLISH
BEGIN:VTIMEZONE
TZID:Europe/Berlin
X-LIC-LOCATION:Europe/Berlin
BEGIN:DAYLIGHT
TZOFFSETFROM:+0100
TZOFFSETTO:+0200
TZNAME:CEST
DTSTART:19700329T020000
RRULE:FREQ=YEARLY;INTERVAL=1;BYDAY=-1SU;BYMONTH=3
END:DAYLIGHT
BEGIN:STANDARD
TZOFFSETFROM:+0200
TZOFFSETTO:+0100
TZNAME:CET
DTSTART:19701025T030000
RRULE:FREQ=YEARLY;INTERVAL=1;BYDAY=-1SU;BYMONTH=10
END:STANDARD
END:VTIMEZONE
BEGIN:VEVENT
UID:8beaa81d84ad5efbc5e03ccd17f7e12b@gruene-saar.de
URL;VALUE=URI:https://gruene-saar.de/termine/lag-landwirtschaft-3/
LOCATION:
SUMMARY:LAG Landwirtschaft
DESCRIPTION;ALTREP="data:text/html,%0A%3Cp%3ETermin%3A%20Montag%2C%2006.%
 20Oktober%202025%3C%2Fp%3E%0A%0A%0A%0A%3Cp%3EUhrzeit%3A%2020%3A00%20Uhr%3
 C%2Fp%3E%0A%0A%0A%0A%3Cp%3EOrt%3A%20Online%20via%20Zoom%3C%2Fp%3E%0A":Ter
 min: Montag\, 06. Oktober 2025\n\nUhrzeit: 20:00 Uhr\n\nOrt: Online via Z
 oom
CLASS:PUBLIC
DTSTART;TZID=Europe/Berlin:20251006T200000
DTEND;TZID=Europe/Berlin:20251006T210000
DTSTAMP:20260421T202126
END:VEVENT
END:VCALENDAR