BEGIN:VCALENDAR
VERSION:2.0
PRODID:gruene-saar.de
METHOD:PUBLISH
BEGIN:VTIMEZONE
TZID:Europe/Berlin
X-LIC-LOCATION:Europe/Berlin
BEGIN:DAYLIGHT
TZOFFSETFROM:+0100
TZOFFSETTO:+0200
TZNAME:CEST
DTSTART:19700329T020000
RRULE:FREQ=YEARLY;INTERVAL=1;BYDAY=-1SU;BYMONTH=3
END:DAYLIGHT
BEGIN:STANDARD
TZOFFSETFROM:+0200
TZOFFSETTO:+0100
TZNAME:CET
DTSTART:19701025T030000
RRULE:FREQ=YEARLY;INTERVAL=1;BYDAY=-1SU;BYMONTH=10
END:STANDARD
END:VTIMEZONE
BEGIN:VEVENT
UID:80ef967a009817fafdb786b7647ce02a@gruene-saar.de
URL;VALUE=URI:https://gruene-saar.de/termine/lag-lawi/
LOCATION:
SUMMARY:LAG LaWi
DESCRIPTION;ALTREP="data:text/html,%0A%3Cp%3ETermin%3A%20Donnerstag%2C%20
 26.%20Juni%202025%3Cbr%3EUhrzeit%3A%2020%20Uhr%3Cbr%3EOrt%3A%20Posthof%20
 Saarlouis%3C%2Fp%3E%0A":Termin: Donnerstag\, 26. Juni 2025Uhrzeit: 20 Uhr
 Ort: Posthof Saarlouis
CLASS:PUBLIC
DTSTART;TZID=Europe/Berlin:20250626T200000
DTEND;TZID=Europe/Berlin:20250626T210000
DTSTAMP:20260421T172143
END:VEVENT
END:VCALENDAR