BEGIN:VCALENDAR
VERSION:2.0
PRODID:gruene-saar.de
METHOD:PUBLISH
BEGIN:VTIMEZONE
TZID:Europe/Berlin
X-LIC-LOCATION:Europe/Berlin
BEGIN:DAYLIGHT
TZOFFSETFROM:+0100
TZOFFSETTO:+0200
TZNAME:CEST
DTSTART:19700329T020000
RRULE:FREQ=YEARLY;INTERVAL=1;BYDAY=-1SU;BYMONTH=3
END:DAYLIGHT
BEGIN:STANDARD
TZOFFSETFROM:+0200
TZOFFSETTO:+0100
TZNAME:CET
DTSTART:19701025T030000
RRULE:FREQ=YEARLY;INTERVAL=1;BYDAY=-1SU;BYMONTH=10
END:STANDARD
END:VTIMEZONE
BEGIN:VEVENT
UID:7ad3b1f8599c18b2c54e1b615fad78f0@gruene-saar.de
URL;VALUE=URI:https://gruene-saar.de/termine/lag-migration-integration/
LOCATION:Grüner Raum, Cecilienstraße 4, 66111 Saarbrücken
SUMMARY:LAG Migration & Integration
DESCRIPTION;ALTREP="data:text/html,%0A%3Cp%3ELiebes%20Mitglied%2C%3C%2Fp%
 3E%0A%3Cp%3Egerne%20laden%20wir%20Dich%20zu%20der%20n%C3%A4chsten%20Sitzu
 ng%20der%3Cstrong%3E%20LAG%20Migration%20%26amp%3B%20Integration%3C%2Fstr
 ong%3E%20ein.%20Sie%20findet%20statt%20am%20%3Cstrong%3ESonntag%2C%20den%
 2010.%20M%C3%A4rz%202024%2C%20um%2016%3A00%20Uhr%20im%20Gr%C3%BCnen%20Rau
 m%20%28Cecilienstra%C3%9Fe%204%2C%2066111%20Saarbr%C3%BCcken%29.%3C%2Fstr
 ong%3E%3C%2Fp%3E%0A%3Cp%3EFolgende%20Tagesordnung%20schlagen%20wir%20vor%
 3A%3C%2Fp%3E%0A%3Cp%3ETOP%201%3A%20Begr%C3%BC%C3%9Fung%3Cbr%3ETOP%202%3A%
 20Wahl%20von%20LAG-Sprecher%3Ainnen%3Cbr%3ETOP%203%3A%20Wahl%20von%20Dele
 gierten%20f%C3%BCr%20die%20Bundesarbeitsgemeinschaft%20Migration%20%26amp
 %3B%20Flucht%20von%20B%C3%BCndnis%2090%2FDie%20Gr%C3%BCnen%3Cbr%3ETOP%204
 %3A%20Inhaltliche%20Diskussion%3Cbr%3E-%20Bezahlkarte%3Cbr%3E-%20Haus%20d
 es%20Ankommens%20in%20Saarbr%C3%BCcken%3Cbr%3E-%20Containerdorf%20Ensdorf
 %20%3Cbr%3ETOP%205%3A%20Sonstiges%3C%2Fp%3E%0A%3Cp%3ESofern%20keine%20Mit
 gliedschaft%20im%20Signal-Chat%20der%20LAG%20Migration%20%26amp%3B%20Inte
 gration%20besteht%2C%20bitten%20wir%20um%20eine%20kurze%20Anmeldung%20per
 %20Mail%20ansantino.klos%40gruene-saar.de.%3C%2Fp%3E%0A%3Cp%3EViele%20Gr%
 C3%BC%C3%9Fe%3Cbr%3Ef%C3%BCr%20den%20Landesvorstand%3Cbr%3ESantino%20Klos
 %3C%2Fp%3E%0A%0A%0A%0A%3Cdiv%20style%3D%22height%3A41px%22%20aria-hidden%
 3D%22true%22%20class%3D%22wp-block-spacer%22%3E%3C%2Fdiv%3E%0A%0A%0A%0A%3
 Cdiv%3E%3Cdiv%20class%3D%22ootb-openstreetmap--map%22%20data-provider%3D%
 22openstreetmap%22%20data-maptype%3D%22marker%22%20data-showmarkers%3D%22
 true%22%20data-shapestyle%3D%22%257B%2522fillColor%2522%253A%2522%2523008
 EFF%2522%252C%2522color%2522%253A%2522%2523008EFF%2522%252C%2522weight%25
 22%253A3%257D%22%20data-shapetext%3D%22%22%20data-markers%3D%22%255B%257B
 %2522lat%2522%253A%252249.236033500000005%2522%252C%2522lng%2522%253A%252
 26.997615053645612%2522%252C%2522text%2522%253A%2522%253Cp%253E4%252C%252
 0Cecilienstra%25C3%259Fe%252C%2520Nauwieser%2520Viertel%252C%2520Distrikt
 %2520Nauwieser%2520Viertel%252C%2520St.%2520Johann%252C%2520Bezirk%2520Mi
 tte%252C%2520Saarbr%25C3%25BCcken%252C%2520Regionalverband%2520Saarbr%25C
 3%25BCcken%252C%2520Saarland%252C%252066111%252C%2520Deutschland%253C%252
 Fp%253E%2522%252C%2522id%2522%253A1709285537923%257D%255D%22%20data-bound
 s%3D%22%5B49.236033500000005%2C6.997615053645612%5D%22%20data-zoom%3D%221
 8%22%20data-minzoom%3D%222%22%20data-maxzoom%3D%2218%22%20data-dragging%3
 D%22true%22%20data-touchzoom%3D%22true%22%20data-doubleclickzoom%3D%22tru
 e%22%20data-scrollwheelzoom%3D%22true%22%20data-marker%3D%22%257B%2522ico
 nUrl%2522%253A%2522https%253A%252F%252Fgruene-saar.de%252Fwp-content%252F
 plugins%252Footb-openstreetmap%252Fassets%252Fvendor%252Fleaflet%252Fimag
 es%252Fmarker-icon.png%2522%252C%2522iconAnchor%2522%253A%255B12%252C41%2
 55D%252C%2522popupAnchor%2522%253A%255B0%252C-41%255D%257D%22%20style%3D%
 22height%3A400px%22%3E%3C%2Fdiv%3E%3C%2Fdiv%3E%0A":Liebes Mitglied\,\n\ng
 erne laden wir Dich zu der nächsten Sitzung der LAG Migration & Integrat
 ion ein. Sie findet statt am Sonntag\, den 10. März 2024\, um 16:00 Uhr 
 im Grünen Raum (Cecilienstraße 4\, 66111 Saarbrücken).\n\nFolgende Tag
 esordnung schlagen wir vor:\n\nTOP 1: BegrüßungTOP 2: Wahl von LAG-Spre
 cher:innenTOP 3: Wahl von Delegierten für die Bundesarbeitsgemeinschaft 
 Migration & Flucht von Bündnis 90/Die GrünenTOP 4: Inhaltliche Diskussi
 on- Bezahlkarte- Haus des Ankommens in Saarbrücken- Containerdorf Ensdor
 f TOP 5: Sonstiges\n\nSofern keine Mitgliedschaft im Signal-Chat der LAG 
 Migration & Integration besteht\, bitten wir um eine kurze Anmeldung per 
 Mail ansantino.klos@gruene-saar.de.\n\nViele Grüßefür den Landesvorsta
 ndSantino Klos
CLASS:PUBLIC
DTSTART;TZID=Europe/Berlin:20240310T160000
DTEND;TZID=Europe/Berlin:20240310T180000
DTSTAMP:20260421T100447
END:VEVENT
END:VCALENDAR