BEGIN:VCALENDAR
VERSION:2.0
PRODID:gruene-saar.de
METHOD:PUBLISH
BEGIN:VTIMEZONE
TZID:Europe/Berlin
X-LIC-LOCATION:Europe/Berlin
BEGIN:DAYLIGHT
TZOFFSETFROM:+0100
TZOFFSETTO:+0200
TZNAME:CEST
DTSTART:19700329T020000
RRULE:FREQ=YEARLY;INTERVAL=1;BYDAY=-1SU;BYMONTH=3
END:DAYLIGHT
BEGIN:STANDARD
TZOFFSETFROM:+0200
TZOFFSETTO:+0100
TZNAME:CET
DTSTART:19701025T030000
RRULE:FREQ=YEARLY;INTERVAL=1;BYDAY=-1SU;BYMONTH=10
END:STANDARD
END:VTIMEZONE
BEGIN:VEVENT
UID:01f8b0bcf2399eefd73256d533c4e2dc@gruene-saar.de
URL;VALUE=URI:https://gruene-saar.de/termine/lag-migration-integration-4/
LOCATION:
SUMMARY:LAG Migration & Integration
DESCRIPTION;ALTREP="data:text/html,%0A%3Cp%3E%3Cstrong%3ESyrische%20Diasp
 ora%20als%20Motor%20f%C3%BCr%20den%20Wiederaufbau%3C%2Fstrong%3E%3C%2Fp%3
 E%0A%0A%0A%0A%3Cp%3ETermin%3A%20Dienstag%2C%2023.%20September%202025%20%3
 Cbr%3EUhrzeit%3A%20Einlass%2018%20Uhr%2C%20Beginn%2018%3A30%20Uhr%20%3Cbr
 %3EOrt%3A%20Gr%C3%BCner%20Raum%2C%20Cecilienstra%C3%9Fe%2011%2C%2066111%2
 0Saarbr%C3%BCcken%20%3Cbr%3EReferent%3A%20Firas%20Abou%20Kuba%3C%2Fp%3E%0
 A%0A%0A%0A%3Cp%3EZur%20besseren%20Planung%20bitten%20wir%20um%20vorherige
 %20Anmeldung%20per%20Mail%20an%20%3Ca%20href%3D%22mailto%3Alag_migration%
 40gruene-saar.de%22%3E%3Cstrong%3Elag_migration%40gruene-saar.de%3C%2Fstr
 ong%3E%3C%2Fa%3E%20%3C%2Fp%3E%0A%0A%0A%0A%3Cp%3EWie%20f%C3%BChlt%20es%20s
 ich%20an%2C%20zwischen%20zwei%20Welten%20zu%20leben%20%E2%80%93%20mit%20d
 em%20Herzen%20in%20Syrien%2C%20aber%20dem%20Alltag%20in%20Saarbr%C3%BCcke
 n%3F%3C%2Fp%3E%0A%0A%0A%0A%3Cp%3E%3Cbr%3EIn%20dieser%20Veranstaltung%20be
 richtet%20Firas%20Abou%20Kuba%2C%20der%20seit%202015%20in%20Saarbr%C3%BCc
 ken%20lebt%20und%20als%20Nachhaltigkeitsmanager%20arbeitet%2C%20von%20sei
 nen%20pers%C3%B6nlichen%20Erfahrungen%3A%20von%20der%20Flucht%2C%20dem%20
 Ankommen%2C%20der%20Integration%20%E2%80%93%20und%20vom%20fortbestehenden
 %20Wunsch%2C%20auch%20in%20Syrien%20zu%20helfen.%3C%2Fp%3E%0A%0A%0A%0A%3C
 p%3E%3Cbr%3EEr%20erz%C3%A4hlt%20von%20Netzwerken%20syrischer%20Aktivist%3
 Ainnen%20in%20Saarbr%C3%BCcken%20und%20in%20Syrien%2C%20von%20Hilfs-%20un
 d%20Entwicklungsprojekten%20vor%20Ort%20und%20von%20den%20Herausforderung
 en%20und%20Chancen%2C%20nach%20dem%20Sturz%20des%20Assad-Regimes%20einen%
 20gesellschaftlichen%20Wiederaufbau%20mitzugestalten.%20Der%20Abend%20l%C
 3%A4dt%20ein%20zum%20Austausch%20%C3%BCber%20Heimat%2C%20Identit%C3%A4t%2
 C%20Verantwortung%20%E2%80%93%20und%20dar%C3%BCber%2C%20wie%20gelebte%20I
 ntegration%20und%20transnationale%20Solidarit%C3%A4t%20zusammengeh%C3%B6r
 en.%3C%2Fp%3E%0A":Syrische Diaspora als Motor für den Wiederaufbau\n\nTe
 rmin: Dienstag\, 23. September 2025 Uhrzeit: Einlass 18 Uhr\, Beginn 18:3
 0 Uhr Ort: Grüner Raum\, Cecilienstraße 11\, 66111 Saarbrücken Referen
 t: Firas Abou Kuba\n\nZur besseren Planung bitten wir um vorherige Anmeld
 ung per Mail an lag_migration@gruene-saar.de\n\nWie fühlt es sich an\, z
 wischen zwei Welten zu leben – mit dem Herzen in Syrien\, aber dem Allt
 ag in Saarbrücken?\n\nIn dieser Veranstaltung berichtet Firas Abou Kuba\
 , der seit 2015 in Saarbrücken lebt und als Nachhaltigkeitsmanager arbei
 tet\, von seinen persönlichen Erfahrungen: von der Flucht\, dem Ankommen
 \, der Integration – und vom fortbestehenden Wunsch\, auch in Syrien zu
  helfen.\n\nEr erzählt von Netzwerken syrischer Aktivist:innen in Saarbr
 ücken und in Syrien\, von Hilfs- und Entwicklungsprojekten vor Ort und v
 on den Herausforderungen und Chancen\, nach dem Sturz des Assad-Regimes e
 inen gesellschaftlichen Wiederaufbau mitzugestalten. Der Abend lädt ein 
 zum Austausch über Heimat\, Identität\, Verantwortung – und darüber\
 , wie gelebte Integration und transnationale Solidarität zusammengehöre
 n.
CLASS:PUBLIC
DTSTART;TZID=Europe/Berlin:20250923T180000
DTEND;TZID=Europe/Berlin:20250923T190000
DTSTAMP:20260421T183016
END:VEVENT
END:VCALENDAR