BEGIN:VCALENDAR
VERSION:2.0
PRODID:gruene-saar.de
METHOD:PUBLISH
BEGIN:VTIMEZONE
TZID:Europe/Berlin
X-LIC-LOCATION:Europe/Berlin
BEGIN:DAYLIGHT
TZOFFSETFROM:+0100
TZOFFSETTO:+0200
TZNAME:CEST
DTSTART:19700329T020000
RRULE:FREQ=YEARLY;INTERVAL=1;BYDAY=-1SU;BYMONTH=3
END:DAYLIGHT
BEGIN:STANDARD
TZOFFSETFROM:+0200
TZOFFSETTO:+0100
TZNAME:CET
DTSTART:19701025T030000
RRULE:FREQ=YEARLY;INTERVAL=1;BYDAY=-1SU;BYMONTH=10
END:STANDARD
END:VTIMEZONE
BEGIN:VEVENT
UID:8fb23cd26e3ada274b0d97f3628a211c@gruene-saar.de
URL;VALUE=URI:https://gruene-saar.de/termine/lag-migration-und-integratio
 n/
LOCATION:
SUMMARY:LAG Migration und Integration
DESCRIPTION;ALTREP="data:text/html,%0A%3Cp%3ETermin%3A%20Freitag%2C%2031.
 %20Oktober%202025%3C%2Fp%3E%0A%0A%0A%0A%3Cp%3EUhrzeit%3A%2018%3A00%20Uhr%
 3C%2Fp%3E%0A%0A%0A%0A%3Cp%3EOrt%3A%20Gr%C3%BCner%20Raum%20%28Cecilienstr.
 %2011%2C%2066111%20Saarbr%C3%BCcken%29%3C%2Fp%3E%0A":Termin: Freitag\, 31
 . Oktober 2025\n\nUhrzeit: 18:00 Uhr\n\nOrt: Grüner Raum (Cecilienstr. 1
 1\, 66111 Saarbrücken)
CLASS:PUBLIC
DTSTART;TZID=Europe/Berlin:20251031T180000
DTEND;TZID=Europe/Berlin:20251031T190000
DTSTAMP:20260421T220018
END:VEVENT
END:VCALENDAR