BEGIN:VCALENDAR
VERSION:2.0
PRODID:gruene-saar.de
METHOD:PUBLISH
BEGIN:VTIMEZONE
TZID:Europe/Berlin
X-LIC-LOCATION:Europe/Berlin
BEGIN:DAYLIGHT
TZOFFSETFROM:+0100
TZOFFSETTO:+0200
TZNAME:CEST
DTSTART:19700329T020000
RRULE:FREQ=YEARLY;INTERVAL=1;BYDAY=-1SU;BYMONTH=3
END:DAYLIGHT
BEGIN:STANDARD
TZOFFSETFROM:+0200
TZOFFSETTO:+0100
TZNAME:CET
DTSTART:19701025T030000
RRULE:FREQ=YEARLY;INTERVAL=1;BYDAY=-1SU;BYMONTH=10
END:STANDARD
END:VTIMEZONE
BEGIN:VEVENT
UID:4906ca7fe74eb93924e42117403680df@gruene-saar.de
URL;VALUE=URI:https://gruene-saar.de/termine/lag-migration-und-integratio
 n-2/
LOCATION:
SUMMARY:LAG Migration und Integration
DESCRIPTION;ALTREP="data:text/html,%0A%3Cp%3ETermin%3A%20Montag%2C%2026.%
 20Januar%202025%3C%2Fp%3E%0A%0A%0A%0A%3Cp%3EUhrzeit%3A%2018%3A00%20Uhr%3C
 %2Fp%3E%0A%0A%0A%0A%3Cp%3EOrt%3A%20Gr%C3%BCner%20Raum%20%28Cecilienstra%C
 3%9Fe%2011%2C%2066111%20Saarbr%C3%BCcken%29%3C%2Fp%3E%0A":Termin: Montag\
 , 26. Januar 2025\n\nUhrzeit: 18:00 Uhr\n\nOrt: Grüner Raum (Cecilienstr
 aße 11\, 66111 Saarbrücken)
CLASS:PUBLIC
DTSTART;TZID=Europe/Berlin:20251126T180000
DTEND;TZID=Europe/Berlin:20251126T190000
DTSTAMP:20260421T234143
END:VEVENT
END:VCALENDAR