BEGIN:VCALENDAR
VERSION:2.0
PRODID:gruene-saar.de
METHOD:PUBLISH
BEGIN:VTIMEZONE
TZID:Europe/Berlin
X-LIC-LOCATION:Europe/Berlin
BEGIN:DAYLIGHT
TZOFFSETFROM:+0100
TZOFFSETTO:+0200
TZNAME:CEST
DTSTART:19700329T020000
RRULE:FREQ=YEARLY;INTERVAL=1;BYDAY=-1SU;BYMONTH=3
END:DAYLIGHT
BEGIN:STANDARD
TZOFFSETFROM:+0200
TZOFFSETTO:+0100
TZNAME:CET
DTSTART:19701025T030000
RRULE:FREQ=YEARLY;INTERVAL=1;BYDAY=-1SU;BYMONTH=10
END:STANDARD
END:VTIMEZONE
BEGIN:VEVENT
UID:6aa278fd33ff1145c6a03846f81264bc@gruene-saar.de
URL;VALUE=URI:https://gruene-saar.de/termine/lag-planen-bauen-wohnen/
LOCATION:
SUMMARY:LAG Planen Bauen Wohnen
DESCRIPTION;ALTREP="data:text/html,%0A%3Cp%3ETermin%3A%20Mittwoch%2C%2023
 .%20April%202025%3Cbr%3EUhrzeit%3A%2019%20Uhr%3Cbr%3EOrt%3A%20Online%20vi
 a%20Zoom.%20Erfragung%20des%20Meetinglinks%20unter%3A%20%3Ca%20href%3D%22
 https%3A%2F%2Fgruene-saar.de%2Farbeitsgemeinschaften%2F%23%22%20data-unsc
 ramble%3D%22ed.raas-eneurg%40nhoWuaBnalP_GAL%22%3ELAG_PlanBauWohn%40gruen
 e-saar.de%3C%2Fa%3E%3C%2Fp%3E%0A":Termin: Mittwoch\, 23. April 2025Uhrzei
 t: 19 UhrOrt: Online via Zoom. Erfragung des Meetinglinks unter: LAG_Plan
 BauWohn@gruene-saar.de
CLASS:PUBLIC
DTSTART;TZID=Europe/Berlin:20250423T190000
DTEND;TZID=Europe/Berlin:20250423T200000
DTSTAMP:20260421T150856
END:VEVENT
END:VCALENDAR