BEGIN:VCALENDAR
VERSION:2.0
PRODID:gruene-saar.de
METHOD:PUBLISH
BEGIN:VTIMEZONE
TZID:Europe/Berlin
X-LIC-LOCATION:Europe/Berlin
BEGIN:DAYLIGHT
TZOFFSETFROM:+0100
TZOFFSETTO:+0200
TZNAME:CEST
DTSTART:19700329T020000
RRULE:FREQ=YEARLY;INTERVAL=1;BYDAY=-1SU;BYMONTH=3
END:DAYLIGHT
BEGIN:STANDARD
TZOFFSETFROM:+0200
TZOFFSETTO:+0100
TZNAME:CET
DTSTART:19701025T030000
RRULE:FREQ=YEARLY;INTERVAL=1;BYDAY=-1SU;BYMONTH=10
END:STANDARD
END:VTIMEZONE
BEGIN:VEVENT
UID:bbcc60ab5ed54ddba4c59aa62757dea7@gruene-saar.de
URL;VALUE=URI:https://gruene-saar.de/termine/lag-planen-bauen-wohnen-2/
LOCATION:
SUMMARY:LAG Planen-Bauen-Wohnen
DESCRIPTION;ALTREP="data:text/html,%0A%3Cp%3ETermin%3A%20Mittwoch%2C%2002
 .%20Juli%202025%3Cbr%3EUhrzeit%3A%2019%3A00%20Uhr%3Cbr%3EOrt%3A%20online%
 20via%20Zoom%3C%2Fp%3E%0A":Termin: Mittwoch\, 02. Juli 2025Uhrzeit: 19:00
  UhrOrt: online via Zoom
CLASS:PUBLIC
DTSTART;TZID=Europe/Berlin:20250702T190000
DTEND;TZID=Europe/Berlin:20250702T200000
DTSTAMP:20260421T165313
END:VEVENT
END:VCALENDAR