BEGIN:VCALENDAR
VERSION:2.0
PRODID:gruene-saar.de
METHOD:PUBLISH
BEGIN:VTIMEZONE
TZID:Europe/Berlin
X-LIC-LOCATION:Europe/Berlin
BEGIN:DAYLIGHT
TZOFFSETFROM:+0100
TZOFFSETTO:+0200
TZNAME:CEST
DTSTART:19700329T020000
RRULE:FREQ=YEARLY;INTERVAL=1;BYDAY=-1SU;BYMONTH=3
END:DAYLIGHT
BEGIN:STANDARD
TZOFFSETFROM:+0200
TZOFFSETTO:+0100
TZNAME:CET
DTSTART:19701025T030000
RRULE:FREQ=YEARLY;INTERVAL=1;BYDAY=-1SU;BYMONTH=10
END:STANDARD
END:VTIMEZONE
BEGIN:VEVENT
UID:2a5a076c8c958602547ca0e35b38b462@gruene-saar.de
URL;VALUE=URI:https://gruene-saar.de/termine/lag-planen-bauen-wohnen-3/
LOCATION:
SUMMARY:LAG Planen-Bauen-Wohnen
DESCRIPTION;ALTREP="data:text/html,%0A%3Cp%20id%3D%22block-111853c7-b404-
 4608-b0d3-4d3917f47b29%22%3EDie%20LAG%20Planen-Bauen-Wohnen%20trifft%20si
 ch%20am%20Mittwoch%2C%2027.08.2025%20um%2018%3A30%20Uhr.%20Um%20Anmeldung
 %20wird%20gebeten%20unter%3A%20%3Ca%20href%3D%22https%3A%2F%2Fgruene-saar
 .de%2Fwp-admin%2FLAG_PlanBauWohn%40gruene-saar.de%22%3ELAG_PlanBauWohn%40
 gruene-saar.de%3C%2Fa%3E%3C%2Fp%3E%0A":Die LAG Planen-Bauen-Wohnen trifft
  sich am Mittwoch\, 27.08.2025 um 18:30 Uhr. Um Anmeldung wird gebeten un
 ter: LAG_PlanBauWohn@gruene-saar.de
CLASS:PUBLIC
DTSTART;TZID=Europe/Berlin:20250827T183000
DTEND;TZID=Europe/Berlin:20250827T193000
DTSTAMP:20260421T185540
END:VEVENT
END:VCALENDAR