BEGIN:VCALENDAR
VERSION:2.0
PRODID:gruene-saar.de
METHOD:PUBLISH
BEGIN:VTIMEZONE
TZID:Europe/Berlin
X-LIC-LOCATION:Europe/Berlin
BEGIN:DAYLIGHT
TZOFFSETFROM:+0100
TZOFFSETTO:+0200
TZNAME:CEST
DTSTART:19700329T020000
RRULE:FREQ=YEARLY;INTERVAL=1;BYDAY=-1SU;BYMONTH=3
END:DAYLIGHT
BEGIN:STANDARD
TZOFFSETFROM:+0200
TZOFFSETTO:+0100
TZNAME:CET
DTSTART:19701025T030000
RRULE:FREQ=YEARLY;INTERVAL=1;BYDAY=-1SU;BYMONTH=10
END:STANDARD
END:VTIMEZONE
BEGIN:VEVENT
UID:41e18b62fcb6efe455fcc8bf4988a6a8@gruene-saar.de
URL;VALUE=URI:https://gruene-saar.de/termine/lag-planen-bauen-wohnen-5/
LOCATION:
SUMMARY:LAG Planen-Bauen-Wohnen
DESCRIPTION;ALTREP="data:text/html,%0A%3Cp%3ETermin%3A%20Dienstag%2C%2009
 .%20Dezember%202025%3C%2Fp%3E%0A%0A%0A%0A%3Cp%3EUhrzeit%3A%2018%3A30%20Uh
 r%3C%2Fp%3E%0A%0A%0A%0A%3Cp%3EOrt%3A%20online%3C%2Fp%3E%0A":Termin: Diens
 tag\, 09. Dezember 2025\n\nUhrzeit: 18:30 Uhr\n\nOrt: online
CLASS:PUBLIC
DTSTART;TZID=Europe/Berlin:20251209T183000
DTEND;TZID=Europe/Berlin:20251209T193000
DTSTAMP:20260422T013317
END:VEVENT
END:VCALENDAR