BEGIN:VCALENDAR
VERSION:2.0
PRODID:gruene-saar.de
METHOD:PUBLISH
BEGIN:VTIMEZONE
TZID:Europe/Berlin
X-LIC-LOCATION:Europe/Berlin
BEGIN:DAYLIGHT
TZOFFSETFROM:+0100
TZOFFSETTO:+0200
TZNAME:CEST
DTSTART:19700329T020000
RRULE:FREQ=YEARLY;INTERVAL=1;BYDAY=-1SU;BYMONTH=3
END:DAYLIGHT
BEGIN:STANDARD
TZOFFSETFROM:+0200
TZOFFSETTO:+0100
TZNAME:CET
DTSTART:19701025T030000
RRULE:FREQ=YEARLY;INTERVAL=1;BYDAY=-1SU;BYMONTH=10
END:STANDARD
END:VTIMEZONE
BEGIN:VEVENT
UID:ff58d36bbc0b0bc0ad5f97b3a3b33960@gruene-saar.de
URL;VALUE=URI:https://gruene-saar.de/termine/lag-sitzung-demokratie-und-r
 echt/
LOCATION:
SUMMARY:LAG Demokratie und Recht
DESCRIPTION;ALTREP="data:text/html,%0A%3Cp%3ETermin%3A%20Donnerstag%2C%20
 16.%20Oktober%202025%3C%2Fp%3E%0A%0A%0A%0A%3Cp%3EUhrzeit%3A%2019%3A00%3C%
 2Fp%3E%0A%0A%0A%0A%3Cp%3EOrt%3A%20online%3C%2Fp%3E%0A":Termin: Donnerstag
 \, 16. Oktober 2025\n\nUhrzeit: 19:00\n\nOrt: online
CLASS:PUBLIC
DTSTART;TZID=Europe/Berlin:20251016T190000
DTEND;TZID=Europe/Berlin:20251016T200000
DTSTAMP:20260421T203102
END:VEVENT
END:VCALENDAR