BEGIN:VCALENDAR
VERSION:2.0
PRODID:gruene-saar.de
METHOD:PUBLISH
BEGIN:VTIMEZONE
TZID:Europe/Berlin
X-LIC-LOCATION:Europe/Berlin
BEGIN:DAYLIGHT
TZOFFSETFROM:+0100
TZOFFSETTO:+0200
TZNAME:CEST
DTSTART:19700329T020000
RRULE:FREQ=YEARLY;INTERVAL=1;BYDAY=-1SU;BYMONTH=3
END:DAYLIGHT
BEGIN:STANDARD
TZOFFSETFROM:+0200
TZOFFSETTO:+0100
TZNAME:CET
DTSTART:19701025T030000
RRULE:FREQ=YEARLY;INTERVAL=1;BYDAY=-1SU;BYMONTH=10
END:STANDARD
END:VTIMEZONE
BEGIN:VEVENT
UID:fdef6c89f4837d6d7a158948d0e2a21f@gruene-saar.de
URL;VALUE=URI:https://gruene-saar.de/termine/lag-soziales/
LOCATION:
SUMMARY:LAG Soziales
DESCRIPTION;ALTREP="data:text/html,%0A%3Cp%3ETermin%3A%20Mittwoch%2C%208.
 %20Oktober%202025%20%3Cbr%3EUhrzeit%3A%2018.30%20%3Cbr%3EOrt%3A%20Gr%C3%B
 Cner%20Raum%2C%20Cecilienstr.%2011%2C%2066111%20Saarbr%C3%BCcken%3C%2Fp%3
 E%0A%0A%0A%0A%3Cp%3E%3C%2Fp%3E%0A":Termin: Mittwoch\, 8. Oktober 2025 Uhr
 zeit: 18.30 Ort: Grüner Raum\, Cecilienstr. 11\, 66111 Saarbrücken
CLASS:PUBLIC
DTSTART;TZID=Europe/Berlin:20251008T183000
DTEND;TZID=Europe/Berlin:20251008T193000
DTSTAMP:20260421T183829
END:VEVENT
END:VCALENDAR