BEGIN:VCALENDAR
VERSION:2.0
PRODID:gruene-saar.de
METHOD:PUBLISH
BEGIN:VTIMEZONE
TZID:Europe/Berlin
X-LIC-LOCATION:Europe/Berlin
BEGIN:DAYLIGHT
TZOFFSETFROM:+0100
TZOFFSETTO:+0200
TZNAME:CEST
DTSTART:19700329T020000
RRULE:FREQ=YEARLY;INTERVAL=1;BYDAY=-1SU;BYMONTH=3
END:DAYLIGHT
BEGIN:STANDARD
TZOFFSETFROM:+0200
TZOFFSETTO:+0100
TZNAME:CET
DTSTART:19701025T030000
RRULE:FREQ=YEARLY;INTERVAL=1;BYDAY=-1SU;BYMONTH=10
END:STANDARD
END:VTIMEZONE
BEGIN:VEVENT
UID:fa2446ce149e6bbf33579dc10b7c8c09@gruene-saar.de
URL;VALUE=URI:https://gruene-saar.de/termine/lag-tierschutz/
LOCATION:
SUMMARY:LAG Tierschutz
DESCRIPTION;ALTREP="data:text/html,%0A%3Cp%3EAm%20Dienstag%2C%20den%C2%A0
 %3Cstrong%3E24.%20%C2%A0Juni%202025%2C%20um%2018%3A30%20Uhr%3C%2Fstrong%3
 E%C2%A0laden%20wir%20zur%20Sitzung%20der%20Landesarbeitsgemeinschaft%20Ti
 erschutz%20ein.%20%C2%A0%C2%A0%3C%2Fp%3E%0A%0A%0A%0A%3Cp%3EDie%20LAG%20Ti
 erschutz%20bietet%20eine%20Plattform%20f%C3%BCr%20fachliche%20Vernetzung%
 2C%20politische%20Meinungsbildung%20und%20konkrete%20Initiativen%20auf%20
 Landesebene.%20Die%20Einladung%20richtet%20sich%20explizit%20an%20alle%20
 Mitglieder%20zur%20Reaktivierung%20der%20LAG.%26nbsp%3B%3C%2Fp%3E%0A%0A%0
 A%0A%3Cp%3E%3Cstrong%3EVorgeschlagene%20Tagesordnung%3C%2Fstrong%3E%3C%2F
 p%3E%0A%0A%0A%0A%3Col%20class%3D%22wp-block-list%22%3E%0A%3Cli%3EBegr%C3%
 BC%C3%9Fung%3C%2Fli%3E%0A%0A%0A%0A%3Cli%3EBericht%20%22Runder%20Tisch%22%
 20%28Themen%2C%20Ziele%2C%20Teilnahme%29%3C%2Fli%3E%0A%0A%0A%0A%3Cli%3EWa
 hl%20der%20Versammlungsleiter%2Ain%3C%2Fli%3E%0A%0A%0A%0A%3Cli%3EWahl%20v
 on%20Sprecher%2Ain%3C%2Fli%3E%0A%0A%0A%0A%3Cli%3EWahl%20der%20Bundesdeleg
 ierten%20%28Haupt-%20und%20Ersatzdelegierte%29%3C%2Fli%3E%0A%0A%0A%0A%3Cl
 i%3EAusgestaltung%20LAG%20Tierschutz%3C%2Fli%3E%0A%0A%0A%0A%3Cli%3EThemen
 setzung%3C%2Fli%3E%0A%0A%0A%0A%3Cli%3EVerschiedenes%3C%2Fli%3E%0A%3C%2Fol
 %3E%0A%0A%0A%0A%3Cp%3EWir%20bitten%20um%20vorherige%20Anmeldung%20unter%3
 A%26nbsp%3B%3Ca%20href%3D%22mailto%3ALAG_Tierschutz%40gruene-saar.de%22%2
 0target%3D%22_blank%22%20rel%3D%22noreferrer%20noopener%22%3ELAG_Tierschu
 tz%40gruene-saar.de%3C%2Fa%3E%3C%2Fp%3E%0A%0A%0A%0A%3Cp%3EDie%20Adresse%2
 0wird%20via%20Mail%20mitgeteilt.%20%3C%2Fp%3E%0A":Am Dienstag\, den 24. 
  Juni 2025\, um 18:30 Uhr laden wir zur Sitzung der Landesarbeitsgemein
 schaft Tierschutz ein.   \n\nDie LAG Tierschutz bietet eine Plattform f
 ür fachliche Vernetzung\, politische Meinungsbildung und konkrete Initia
 tiven auf Landesebene. Die Einladung richtet sich explizit an alle Mitgli
 eder zur Reaktivierung der LAG. \n\nVorgeschlagene Tagesordnung\n\nBegr
 üßung\n\nBericht "Runder Tisch" (Themen\, Ziele\, Teilnahme)\n\nWahl de
 r Versammlungsleiter*in\n\nWahl von Sprecher*in\n\nWahl der Bundesdelegie
 rten (Haupt- und Ersatzdelegierte)\n\nAusgestaltung LAG Tierschutz\n\nThe
 mensetzung\n\nVerschiedenes\n\nWir bitten um vorherige Anmeldung unter: 
 LAG_Tierschutz@gruene-saar.de\n\nDie Adresse wird via Mail mitgeteilt.
CLASS:PUBLIC
DTSTART;TZID=Europe/Berlin:20250624T183000
DTEND;TZID=Europe/Berlin:20250624T193000
DTSTAMP:20260421T172155
END:VEVENT
END:VCALENDAR